BEGIN:VCALENDAR
VERSION:2.0
PRODID:-//Pétale 07 - ECPv6.15.20//NONSGML v1.0//EN
CALSCALE:GREGORIAN
METHOD:PUBLISH
X-WR-CALNAME:Pétale 07
X-ORIGINAL-URL:https://www.petale07.org
X-WR-CALDESC:Évènements pour Pétale 07
REFRESH-INTERVAL;VALUE=DURATION:PT1H
X-Robots-Tag:noindex
X-PUBLISHED-TTL:PT1H
BEGIN:VTIMEZONE
TZID:Europe/Paris
BEGIN:DAYLIGHT
TZOFFSETFROM:+0100
TZOFFSETTO:+0200
TZNAME:CEST
DTSTART:20230326T010000
END:DAYLIGHT
BEGIN:STANDARD
TZOFFSETFROM:+0200
TZOFFSETTO:+0100
TZNAME:CET
DTSTART:20231029T010000
END:STANDARD
BEGIN:DAYLIGHT
TZOFFSETFROM:+0100
TZOFFSETTO:+0200
TZNAME:CEST
DTSTART:20240331T010000
END:DAYLIGHT
BEGIN:STANDARD
TZOFFSETFROM:+0200
TZOFFSETTO:+0100
TZNAME:CET
DTSTART:20241027T010000
END:STANDARD
BEGIN:DAYLIGHT
TZOFFSETFROM:+0100
TZOFFSETTO:+0200
TZNAME:CEST
DTSTART:20250330T010000
END:DAYLIGHT
BEGIN:STANDARD
TZOFFSETFROM:+0200
TZOFFSETTO:+0100
TZNAME:CET
DTSTART:20251026T010000
END:STANDARD
END:VTIMEZONE
BEGIN:VEVENT
DTSTART;TZID=Europe/Paris:20241015T080000
DTEND;TZID=Europe/Paris:20241015T170000
DTSTAMP:20260421T202909
CREATED:20240717T091324Z
LAST-MODIFIED:20241011T121522Z
UID:8552-1728979200-1729011600@www.petale07.org
SUMMARY:Journée de rencontres et d'échanges "Favoriser le bien être et le mieux vivre dans les environnements"
DESCRIPTION:Journée de rencontres et d’échanges « Favoriser le bien être et le mieux vivre dans les environnements » \nAgir pour la santé mentale et l’ESE (éducation promotion de la santé environnement) organisée par le comité ESE Drôme Ardèche dont fait partit le collectif Pétale 07. \nLe mardi 15 octobre venez échanger\, découvrir et partager des expériences qui font le lien entre santé mentale et environnement. La matinée sera riche de part vos échanges\, et temps d’interconnaissance. L’après-midi vous vivrez des ateliers concrets (programme à venir pour votre inscription définitive).\nAu plaisir de vous retrouvez le 15 octobre à la Voulte sur Rhône. \nPour s’inscrire\nTélécharger le flyer : https://www.petale07.org/wp-content/uploads/2024/07/Save-the-date-ESE-151024.pdf \nRessources sur le thème de la journée :  \n\nBIIP « Faire le lien entre santé mentale et environnement »\nVidéo (4min) : Le Cosmos Mental® : Un clip Psycom pour comprendre la santé mentale et ce qui l’influence
URL:https://www.petale07.org/event/journee-de-rencontres-et-dechanges-favoriser-le-bien-etre-et-le-mieux-vivre-dans-les-environnements/
CATEGORIES:Evenementiel,Groupe ESE
ATTACH;FMTTYPE=image/png:https://www.petale07.org/wp-content/uploads/2024/07/save-the-date-15-octobre-image-.png
END:VEVENT
END:VCALENDAR