BEGIN:VCALENDAR
VERSION:2.0
PRODID:-//Pétale 07 - ECPv6.15.20//NONSGML v1.0//EN
CALSCALE:GREGORIAN
METHOD:PUBLISH
X-ORIGINAL-URL:https://www.petale07.org
X-WR-CALDESC:Évènements pour Pétale 07
REFRESH-INTERVAL;VALUE=DURATION:PT1H
X-Robots-Tag:noindex
X-PUBLISHED-TTL:PT1H
BEGIN:VTIMEZONE
TZID:Europe/Paris
BEGIN:DAYLIGHT
TZOFFSETFROM:+0100
TZOFFSETTO:+0200
TZNAME:CEST
DTSTART:20230326T010000
END:DAYLIGHT
BEGIN:STANDARD
TZOFFSETFROM:+0200
TZOFFSETTO:+0100
TZNAME:CET
DTSTART:20231029T010000
END:STANDARD
BEGIN:DAYLIGHT
TZOFFSETFROM:+0100
TZOFFSETTO:+0200
TZNAME:CEST
DTSTART:20240331T010000
END:DAYLIGHT
BEGIN:STANDARD
TZOFFSETFROM:+0200
TZOFFSETTO:+0100
TZNAME:CET
DTSTART:20241027T010000
END:STANDARD
BEGIN:DAYLIGHT
TZOFFSETFROM:+0100
TZOFFSETTO:+0200
TZNAME:CEST
DTSTART:20250330T010000
END:DAYLIGHT
BEGIN:STANDARD
TZOFFSETFROM:+0200
TZOFFSETTO:+0100
TZNAME:CET
DTSTART:20251026T010000
END:STANDARD
END:VTIMEZONE
BEGIN:VEVENT
DTSTART;TZID=Europe/Paris:20240920T170000
DTEND;TZID=Europe/Paris:20240921T170000
DTSTAMP:20260421T215417
CREATED:20240321T115706Z
LAST-MODIFIED:20240830T154527Z
UID:7965-1726851600-1726938000@www.petale07.org
SUMMARY:24h Sortir! Ardèche 2024
DESCRIPTION:Les prochaines 24h SORTIR ! Ardèche se dérouleront au Moulin de Charrier à Labastide-sur-Besorgues les 20 et 21 septembre 2024 . Le thème de cette édition « l’eau\, la préservation de la rivière et de la ressource en eau ». Nous nous retrouverons donc sur les berges de la Besorgues\, aux abords d’un ancien moulin\, pour échanger sur nos outils et méthodes d’animation en lien avec cette thématique. Mais aussi imaginer les adaptations de nos discours et de notre pédagogie face aux enjeux climatiques et aux futures tensions sur la ressource en eau. Les 24h Sortir ! étant un temps d’échange et de co-formation vous pouvez proposer d’animer les moments estampillés « A vos idées » et/ou de partager un outil\, une animation\, un jeu lors de la cascade du samedi après-midi. Pour vous aider\, nous avons des accès à la rivière faciles\, un ripisylve mince\, et de grands espaces enherbés relativement plats. Voir le programme du week-end !  Côté pratique\, vous pourrez dormir sous tente\, dans un hamac\, ou à la belle étoile et\, éventuellement dans le gîte (attention places limités). Pour le samedi soir on prévoit une grosse soupe mais vous pouvez emmener de quoi compléter. Et il faut prévoir des denrées non périssables pour le samedi midi. Pour le samedi matin au petit déjeuner\, nous prévoyons thé\, café\, pain\, miel\, confiture\, fruits et jus\, mais il n’est pas interdit d’y mettre votre patte. \nJe m’inscris sur le tableau partagé  \n\n\n\nVos contacts : Dimitri MOINE 06 30 64 68 10 et Jeanne BAURY 06 04 74 62 95
URL:https://www.petale07.org/event/24h-sortir-ardeche-2024/
LOCATION:Moulin de charrier\, 516 Chemin du Soulier\, Labastide-sur-Besorgues\, 07600
CATEGORIES:Evenementiel,Groupe Sortir
ATTACH;FMTTYPE=image/png:https://www.petale07.org/wp-content/uploads/2024/03/24h-Sortir-13-et-14-04-20236.png
END:VEVENT
END:VCALENDAR