BEGIN:VCALENDAR
VERSION:2.0
PRODID:-//Pétale 07 - ECPv6.15.20//NONSGML v1.0//EN
CALSCALE:GREGORIAN
METHOD:PUBLISH
X-WR-CALNAME:Pétale 07
X-ORIGINAL-URL:https://www.petale07.org
X-WR-CALDESC:Évènements pour Pétale 07
REFRESH-INTERVAL;VALUE=DURATION:PT1H
X-Robots-Tag:noindex
X-PUBLISHED-TTL:PT1H
BEGIN:VTIMEZONE
TZID:Europe/Paris
BEGIN:DAYLIGHT
TZOFFSETFROM:+0100
TZOFFSETTO:+0200
TZNAME:CEST
DTSTART:20230326T010000
END:DAYLIGHT
BEGIN:STANDARD
TZOFFSETFROM:+0200
TZOFFSETTO:+0100
TZNAME:CET
DTSTART:20231029T010000
END:STANDARD
BEGIN:DAYLIGHT
TZOFFSETFROM:+0100
TZOFFSETTO:+0200
TZNAME:CEST
DTSTART:20240331T010000
END:DAYLIGHT
BEGIN:STANDARD
TZOFFSETFROM:+0200
TZOFFSETTO:+0100
TZNAME:CET
DTSTART:20241027T010000
END:STANDARD
BEGIN:DAYLIGHT
TZOFFSETFROM:+0100
TZOFFSETTO:+0200
TZNAME:CEST
DTSTART:20250330T010000
END:DAYLIGHT
BEGIN:STANDARD
TZOFFSETFROM:+0200
TZOFFSETTO:+0100
TZNAME:CET
DTSTART:20251026T010000
END:STANDARD
END:VTIMEZONE
BEGIN:VEVENT
DTSTART;VALUE=DATE:20240321
DTEND;VALUE=DATE:20240707
DTSTAMP:20260422T022450
CREATED:20240405T160037Z
LAST-MODIFIED:20240405T161652Z
UID:8051-1710979200-1720310399@www.petale07.org
SUMMARY:Animations gratuites eau et rivières : programme printemps 2024
DESCRIPTION:Ateliers « mon potager économe en eau »\, balades « découverte de la rivière »\, conférences « eau et changement climatique »\, stands « j’économise l’eau à la maison »\, visites\, expositions… \nPour la deuxième année consécutive\, de fin mars à début juillet 2024\, l’EPTB Ardèche et ses partenaires sont heureux de vous proposer une vingtaine de nouveaux rendez-vous gratuits\, ludiques et familiaux. \nLancé officiellement le 22 mars\, à l’occasion de la Journée Mondiale de l’Eau\, le programme de cette année a déjà connu un beau prélude avec l’accueil\, à Vogüé\, de la magnifique Marche pour la Planète organisée par les étudiants du Lycée Olivier de Serres d’Aubenas\, et notre participation aux Journées de l’eau du collectif citoyen du pays des Vans qui se sont déroulées aux Assions. \n\n\n\nZoom sur les prochains rendez-vous :\n\n\n\n\nEN AVRIL…\n\n\n\n\n\nSamedi 20 avril – 14h \nBALADE – Découverte de la Tortue Cistude d’Europe\nAccompagnée par l’association Ardèche randonnées et l’EPTB Ardèche\nChauzon \n \nDétails\n\n\nSamedi 27 avril – 14h \nBALADE – Découverte de la rivière Beaume\nAccompagnée par l’association Ardèche randonnées\nSanilhac / Beaumont \n \nDétails\n\n\n\n\n\n\nEN MAI…\n\n\n\n\nSamedi 4 mai – 10h/17h\nSTAND – J’économise l’eau à la maison\nAnimé par l’ALEC 07 – À l’occasion de la Fête des 30 ans des Bateliers de l’Ardèche\nRuoms\nEntrée libre \nlien vers site de l’évènement à venir\n\n\nSamedi 4 mai – 14h\nBALADE – Dans la garrigue\, à la découverte des milieux secs\nAccompagnée par l’association Le Mat\nBalazuc\nDétails\n\n\nSamedi 4 mai – 17h\nBALADE NOCTURNE\, FILM et ATELIER – Découverte des chauves-souris\nAccompagnée par la Ligue de Protection des Oiseaux Auvergne Rhône Alpes\nBalazuc\nDétails\n\n\nDimanche 12 mai – 13h45\nBALADE – Découverte de la rivière Ardèche\nAccompagnée par l’association Clapas nature roche et paysages\nThueyts / Barnas\nDétails\n\n\nMercredi 15 mai – 14h\nATELIER – Mon potager économe en eau\nAnimé par l’association V.I.E.\nSaint-Didier-sous-Aubenas ou Lachapelle-sous-Aubenas (lieu à confirmer)\nDétails\n\n\n\n\net bien d’autres dates à retrouver sur le programme complet !\n \n  \n  \nN’hésitez pas à participer et à partager l’info autour de vous !\nTéléchargez le dépliant programme (pdf) – Téléchargez l’affiche (pdf) \n  \nOpération menée avec le soutien financier de l’Agence de l’Eau Rhône Méditerranée Corse\, de la Région Auvergne Rhône-Alpes et du Département de l’Ardèche.
URL:https://www.petale07.org/event/animations-gratuites-eau-et-rivieres-programme-printemps-2024/
LOCATION:Bassin Versant de l’Ardèche
CATEGORIES:Animation / atelier,Evenementiel,Sortie / balade
ATTACH;FMTTYPE=image/png:https://www.petale07.org/wp-content/uploads/2024/04/loutre_atelier2@2x.png
ORGANIZER;CN="Etablissement Public Territorial du bassin versant de l'Ad%C3%A8che":MAILTO:communication@ardeche-eau.fr
END:VEVENT
BEGIN:VEVENT
DTSTART;TZID=Europe/Paris:20240624T100000
DTEND;TZID=Europe/Paris:20240624T120000
DTSTAMP:20260422T022450
CREATED:20240530T154624Z
LAST-MODIFIED:20240719T104158Z
UID:8357-1719223200-1719230400@www.petale07.org
SUMMARY:Assemblée Générale 2024 du Collectif Pétale 07
DESCRIPTION:Compte rendu bientôt disponible pour revoir le programme de la journée  ↓↓↓\nRendez-vous lundi 24 juin 2024 \nau château de Liviers à Lyas \npour l’assemblée générale du Collectif Pétale 07 \n\n \nAu programme de la matinée :\n10h00 – 12h00\nAssemblée générale ordinaire \n\nPrésentation du rapport moral et du rapport financier 2023\nPrésentation du rapport d’activités 2023 : zoom sur les temps forts du réseau – Montez à bord de notre machine à remonter le temps et venez à la rencontre des acteurs impliqués qui partageront leur vécu !\nDiscussion et échanges sur le fonctionnement du collectif\, ses perspectives et les projets 2024\nVotes : approbation du rapport d’activité et des comptes 2023\, affectation du résultat\, élection des membres de la Collégiale\, montant des cotisations\n\n12h00 – 13h30\nRepas partagé : Moment convivial autour d’un repas partagé façon auberge espagnole \n \nEn raison des élections législatives et de la période de réserve électorale\, l’évènement Guid’asso initialement prévu le 24 juin après-midi est annulé. \n>> Le lieu : nous vous donnons rendez-vous au Château de Liviers 260 allée du Château\, 07000 Lyas \n 🚗 Organisons-nous pour covoiturer ! Vous pouvez proposer une voiture ou rechercher une place sur le lien suivant : https://togetzer.com/covoiturage-evenement/n9s9u8 \nS’inscrire en ligne \n \nAdhésion 2024\, c’est le moment ! \nAdhérent individuel ou structure\, c’est le moment d’adhérer ou de renouveler votre adhésion à Pétale 07 pour participer davantage à la vie associative\, vous impliquer dans les projets et pouvoir voter en AG.\nÊtre adhérent à Pétale 07\, c’est s’inscrire dans une dynamique de réseau\, partager\, échanger\, se former\, construire des projets collectifs\, participer activement au développement de l’éducation à l’environnement et à la santé… et bien plus encore !\nAlors n’hésitez plus\, rejoignez-nous !\nAdhérer au Collectif Pétale 07\nS’engager dans la Collégiale de Pétale 07 \nLe Collectif Pétale 07 propose à celles et ceux qui le souhaitent de rejoindre la Collégiale pour s’impliquer comme administrateur·rice du Collectif :\n>> Pour candidater\, ou échanger de vive voix à ce sujet\, contactez-nous par mail\, nous vous rappellerons : contact@petale07.org \nEn savoir +
URL:https://www.petale07.org/event/assemblee-generale-2024-du-collectif-petale-07/
LOCATION:Chateau de Liviers\, 260 allée du Château\, Lyas\, 07000\, France
CATEGORIES:Evenementiel,Vie du collectif
ATTACH;FMTTYPE=image/png:https://www.petale07.org/wp-content/uploads/2024/05/hiring-join-our-team1.png
END:VEVENT
BEGIN:VEVENT
DTSTART;TZID=Europe/Paris:20240624T133000
DTEND;TZID=Europe/Paris:20240624T190000
DTSTAMP:20260422T022450
CREATED:20240530T150355Z
LAST-MODIFIED:20240530T155348Z
UID:8350-1719235800-1719255600@www.petale07.org
SUMMARY:Événement Guid'Asso Ardèche
DESCRIPTION:Guid’Asso : c’est quoi ?  \nC’est le nom du nouveau réseau d’appui à la vie associative\, piloté par la mission d’appui à la vie associative (MAVA)\, animé par l’État et un consortium d’acteurs associatif et déployé en lien avec le Département de l’Ardèche. Retrouvez toutes les informations sur le site internet : https://www.guidasso07.fr/ \nÉvénements : pour quoi ?  \nLe vendredi 9 février 2024\, des ateliers portant sur les coopérations territoriales ont permis aux acteurs publics et associatifs ardéchois de repenser le partenariat avec les associations.\nVoir la synthèse des échanges et le document de présentation. \nDans la continuité\, la MAVA vous propose trois temps forts sur une demie journée : \n\nUne présentation du nouveau programme LEADER (programme européen visant à soutenir le développement territorial rural)\nUne conférence intitulée : « Initiation à l’évaluation de l’impact social des associations » (pour s’acculturer à ces thématiques)\nUn temps convivial du réseau jeunesse ardéchois (pour créer et recréer du lien\, pour recueillir vos attentes)\n\nProgramme complet ICI\nÉvénements : pour qui ?  \nÉlu associatif ou de collectivité\, bénévole\, salarié\, fonctionnaire\, volontaire\, … ces événements sont ouverts à toutes personnes intéressées par le fait associatif ardéchois et pour créer du lien sur les territoires. \nComment participer ?  \nUn événement ou plusieurs\, en continue ou non\, seul ou à plusieurs\, vous pouvez participer selon vos envies et disponibilités ! \nL’inscription est gratuite. Il suffit de compléter CE FORMULAIRE. \nOù et quand ?   \n\nLundi 24 juin 2024 \n14h / 19h (accueil à partir de 13h30)\nChâteau de Liviers : 260 allée du château 07 000 Lyas\n\nDes questions ?  \nContactez : Christelle DURAND / 06 08 23 23 26 / ce.sdjes07@ac-grenoble.fr \nConsulter le site internet du Guid’Asso Ardèche : https://www.guidasso07.fr/formations-calendrier/
URL:https://www.petale07.org/event/evenement-guidasso-ardeche/
CATEGORIES:Evenementiel
ATTACH;FMTTYPE=image/png:https://www.petale07.org/wp-content/uploads/2024/05/image-guid-asso.png
END:VEVENT
END:VCALENDAR