BEGIN:VCALENDAR
VERSION:2.0
PRODID:-//Pétale 07 - ECPv6.15.20//NONSGML v1.0//EN
CALSCALE:GREGORIAN
METHOD:PUBLISH
X-WR-CALNAME:Pétale 07
X-ORIGINAL-URL:https://www.petale07.org
X-WR-CALDESC:Évènements pour Pétale 07
REFRESH-INTERVAL;VALUE=DURATION:PT1H
X-Robots-Tag:noindex
X-PUBLISHED-TTL:PT1H
BEGIN:VTIMEZONE
TZID:Europe/Paris
BEGIN:DAYLIGHT
TZOFFSETFROM:+0100
TZOFFSETTO:+0200
TZNAME:CEST
DTSTART:20230326T010000
END:DAYLIGHT
BEGIN:STANDARD
TZOFFSETFROM:+0200
TZOFFSETTO:+0100
TZNAME:CET
DTSTART:20231029T010000
END:STANDARD
BEGIN:DAYLIGHT
TZOFFSETFROM:+0100
TZOFFSETTO:+0200
TZNAME:CEST
DTSTART:20240331T010000
END:DAYLIGHT
BEGIN:STANDARD
TZOFFSETFROM:+0200
TZOFFSETTO:+0100
TZNAME:CET
DTSTART:20241027T010000
END:STANDARD
BEGIN:DAYLIGHT
TZOFFSETFROM:+0100
TZOFFSETTO:+0200
TZNAME:CEST
DTSTART:20250330T010000
END:DAYLIGHT
BEGIN:STANDARD
TZOFFSETFROM:+0200
TZOFFSETTO:+0100
TZNAME:CET
DTSTART:20251026T010000
END:STANDARD
END:VTIMEZONE
BEGIN:VEVENT
DTSTART;TZID=Europe/Paris:20240315T170000
DTEND;TZID=Europe/Paris:20240315T190000
DTSTAMP:20260422T064458
CREATED:20240220T100654Z
LAST-MODIFIED:20240227T143355Z
UID:7805-1710522000-1710529200@www.petale07.org
SUMMARY:Table ronde sur l’accompagnement vers une alimentation durable
DESCRIPTION:Les acteurs du Mouvement des Cuisines Nourricières (MCN) interviennent partout en France pour accompagner les territoires et les acteurs dans les changements de pratiques en restauration collective. Vous êtes nombreux à avoir dégusté et découvert leurs pratiques culinaires et leur travail d’accompagnement vers une alimentation durable  lors des 3 derniers forums de l’alimentation. \nA l’occasion de son assemblée générale\, le MCN\, le centre de formation du Mat 07\, le collectif Pétale 07 et le Conseil local de l’alimentation L’Assiette et le Territoire ont le plaisir de vous convier à une soirée d’échanges autour des Cuisines Nourricières. \nRendez-vous le vendredi 15 mars de 17h à 19h à l’Auditorium au domaine du Pradel à Mirabel. \nCet échange sera particulièrement stimulant sur le thème des méthodes d’accompagnement des acteurs vers une alimentation durable et saine. Une dégustation et un pot de l’amitié termineront ce moment convivial. \nAu programme\, les témoignages de 3 membres actifs du MCN  : \nSylvie Keller du Loubatas : Comment accompagner des Lycées ou des cantines municipales vers la mise en place de leur projet alimentaire de référence comprenant l’évolution des pratiques en cuisine. \nSophie Imbert de la CinéFabrique : Comment éduquer et impliquer l’ensemble des élèves d’une école de cinéma dans la fabrication des repas de leur cantine scolaire.  \nYann Sourbier du Mat 07  présentera le travail réalisé ces deux dernières années avec le soutient du programme Leader Ardèche³ pour mettre en place\, animer et former les acteurs des tiers lieux nourriciers ardéchois et les cuisiniers de collectivité à de nouvelles pratiques en restauration collective. \nNous vous prions de bien vouloir remplir le formulaire d’inscription avant le vendredi  8 mars ICI  \nAu plaisir de vous retrouver à cette occasion ! \nKarine Nunes (pour le CLA)\, Marie Simon\, James Pedron et Yann Sourbier (pour Pétale 07\, Le Mat 07 et MCN)
URL:https://www.petale07.org/event/table-ronde-sur-laccompagnement-des-territoires-vers-une-alimentation-durable-avec-le-mouvement-national-des-cuisines-nourricieres/
LOCATION:Domaine du Pradel\, Mirabel\, 07170\, France
CATEGORIES:Evenementiel,Groupe agriculture alimentation,Groupe ESE
ATTACH;FMTTYPE=image/jpeg:https://www.petale07.org/wp-content/uploads/2024/02/Yellow-Black-Modern-Bold-Bachelor-Save-the-Date-Invitation.jpg
END:VEVENT
END:VCALENDAR