BEGIN:VCALENDAR
VERSION:2.0
PRODID:-//Pétale 07 - ECPv6.15.20//NONSGML v1.0//EN
CALSCALE:GREGORIAN
METHOD:PUBLISH
X-WR-CALNAME:Pétale 07
X-ORIGINAL-URL:https://www.petale07.org
X-WR-CALDESC:Évènements pour Pétale 07
REFRESH-INTERVAL;VALUE=DURATION:PT1H
X-Robots-Tag:noindex
X-PUBLISHED-TTL:PT1H
BEGIN:VTIMEZONE
TZID:Europe/Paris
BEGIN:DAYLIGHT
TZOFFSETFROM:+0100
TZOFFSETTO:+0200
TZNAME:CEST
DTSTART:20220327T010000
END:DAYLIGHT
BEGIN:STANDARD
TZOFFSETFROM:+0200
TZOFFSETTO:+0100
TZNAME:CET
DTSTART:20221030T010000
END:STANDARD
BEGIN:DAYLIGHT
TZOFFSETFROM:+0100
TZOFFSETTO:+0200
TZNAME:CEST
DTSTART:20230326T010000
END:DAYLIGHT
BEGIN:STANDARD
TZOFFSETFROM:+0200
TZOFFSETTO:+0100
TZNAME:CET
DTSTART:20231029T010000
END:STANDARD
BEGIN:DAYLIGHT
TZOFFSETFROM:+0100
TZOFFSETTO:+0200
TZNAME:CEST
DTSTART:20240331T010000
END:DAYLIGHT
BEGIN:STANDARD
TZOFFSETFROM:+0200
TZOFFSETTO:+0100
TZNAME:CET
DTSTART:20241027T010000
END:STANDARD
END:VTIMEZONE
BEGIN:VEVENT
DTSTART;VALUE=DATE:20231205
DTEND;VALUE=DATE:20231206
DTSTAMP:20260422T105844
CREATED:20230803T144400Z
LAST-MODIFIED:20230803T144400Z
UID:6901-1701734400-1701820799@www.petale07.org
SUMMARY:AJIR FOR REVEURS#5
DESCRIPTION:Le RDV départemental des tous les acteurs de la jeunesse \nVous êtes conviés au RDV départemental AJIR FOR REVEURS#5 qui se tiendra mardi 5 décembre 2023 au Pouzin. \nUn thème : Les acteurs jeunesse face aux préoccupations environnementales des jeunes. \nUne ambition : faire de ce temps une journée qui rassemble les acteurs jeunesse de première ligne\, de l’éducation formelle\, de l’éducation populaire\, de l’éducation spécialisée\, de l’environnement\, du sport… \nUn programme : Des défis\, des témoignages\, une Fresque du climat\, cette édition s’annonce participative\, joyeuse et pleine de réflexions ! \n+ d’infos à venir prochainement ! \n  \n 
URL:https://www.petale07.org/event/ajir-for-reveurs5/
LOCATION:Le Pouzin
CATEGORIES:Evenementiel
ATTACH;FMTTYPE=image/png:https://www.petale07.org/wp-content/uploads/2023/08/reseau-jeunesse.png
END:VEVENT
END:VCALENDAR