BEGIN:VCALENDAR
VERSION:2.0
PRODID:-//Pétale 07 - ECPv6.15.20//NONSGML v1.0//EN
CALSCALE:GREGORIAN
METHOD:PUBLISH
X-ORIGINAL-URL:https://www.petale07.org
X-WR-CALDESC:Évènements pour Pétale 07
REFRESH-INTERVAL;VALUE=DURATION:PT1H
X-Robots-Tag:noindex
X-PUBLISHED-TTL:PT1H
BEGIN:VTIMEZONE
TZID:Europe/Paris
BEGIN:DAYLIGHT
TZOFFSETFROM:+0100
TZOFFSETTO:+0200
TZNAME:CEST
DTSTART:20220327T010000
END:DAYLIGHT
BEGIN:STANDARD
TZOFFSETFROM:+0200
TZOFFSETTO:+0100
TZNAME:CET
DTSTART:20221030T010000
END:STANDARD
BEGIN:DAYLIGHT
TZOFFSETFROM:+0100
TZOFFSETTO:+0200
TZNAME:CEST
DTSTART:20230326T010000
END:DAYLIGHT
BEGIN:STANDARD
TZOFFSETFROM:+0200
TZOFFSETTO:+0100
TZNAME:CET
DTSTART:20231029T010000
END:STANDARD
BEGIN:DAYLIGHT
TZOFFSETFROM:+0100
TZOFFSETTO:+0200
TZNAME:CEST
DTSTART:20240331T010000
END:DAYLIGHT
BEGIN:STANDARD
TZOFFSETFROM:+0200
TZOFFSETTO:+0100
TZNAME:CET
DTSTART:20241027T010000
END:STANDARD
END:VTIMEZONE
BEGIN:VEVENT
DTSTART;TZID=Europe/Paris:20231020T080000
DTEND;TZID=Europe/Paris:20231020T170000
DTSTAMP:20260422T132813
CREATED:20230803T151915Z
LAST-MODIFIED:20230803T151915Z
UID:6905-1697788800-1697821200@www.petale07.org
SUMMARY:Journée départementale des paysages 2023
DESCRIPTION:Le vendredi 20 octobre au domaine du Pradel à Mirabel\, les paysages ardéchois au cœur de la transition environnementale : quels outils mettre en œuvre pour construire une vision commune du territoire ? \nLe CAUE de l’Ardèche vous convie à la journée départementale des paysages 2023. Cette journée sera l’occasion de partager\, questionner et découvrir les dynamiques territoriales en lien avec le paysage\, l’aménagement et la transition environnementale. Le CAUE est d’ailleurs partenaire de Pétale 07 sur le projet de végétalisation des lieux éducatifs pour en savoir plus et découvrir les ressources sur le sujet c’est ici ! \nDu paysage comme perception ou réalité physique\, au paysage comme méthode et stratégie de projet pour les territoires\, cette journée interrogera collectivement notre rapport à cette notion reconnue comme bien-commun\, où actions individuelles et collectives ont un rôle à jouer. \nLa journée s’articulera autour d’ateliers et de tables-rondes:\n9h00/12h00\nPerception par les ardéchois·es de leurs paysages du quotidien dans un contexte d’évolution climatique: regards croisés entre habitant·es\, chercheuses et chercheurs\, élu·es\, technicien·nes et professionnel·les de l’aménagement.\nEchanges autour des questions d’habiter demain en Ardèche\, des évolutions engagées en agriculture et de la place des énergies renouvelables dans nos territoires.\n13h30/16h30\nLe paysage\, vecteur de la transition dans les outils de planification locaux et territoriaux.\nEchanges\, questionnements\, approfondissement des différents sujets soulevés au cours de la journée.\nà partir de 16h30\nVernissage de l’exposition « Paysages mobilisés »: cheminements sensoriels\, contributions d’habitant·es\, récits de vie\, c’est tout un travail de collecte et d’analyse qui se dévoilera comme manière de questionner les multiples liens entre le paysage et nos modes de vie. \nLe programme définitif et le formulaire d’inscription seront disponibles fin septembre.\nCet événement\, proposé par le CAUE de l’Ardèche dans le cadre du projet « Paysages mobilisés »\, est soutenu par la DREAL et le Leader Ardèche3. Il a été co-construit en partenariat avec la DDT de l’Ardèche\, le Cermosem\, les SCoT\, le PNR des Monts d’Ardèche et le Département de l’Ardèche.
URL:https://www.petale07.org/event/journee-departementale-des-paysages-2023/
LOCATION:Le Pradel\, Domaine Olivier de Serres\, Mirabel\, 07170\, France
CATEGORIES:Evenementiel
ATTACH;FMTTYPE=image/jpeg:https://www.petale07.org/wp-content/uploads/2023/08/ICONO-WEB-JP-2023-BIS.jpg
END:VEVENT
END:VCALENDAR