BEGIN:VCALENDAR
VERSION:2.0
PRODID:-//Pétale 07 - ECPv6.15.20//NONSGML v1.0//EN
CALSCALE:GREGORIAN
METHOD:PUBLISH
X-WR-CALNAME:Pétale 07
X-ORIGINAL-URL:https://www.petale07.org
X-WR-CALDESC:Évènements pour Pétale 07
REFRESH-INTERVAL;VALUE=DURATION:PT1H
X-Robots-Tag:noindex
X-PUBLISHED-TTL:PT1H
BEGIN:VTIMEZONE
TZID:Europe/Paris
BEGIN:DAYLIGHT
TZOFFSETFROM:+0100
TZOFFSETTO:+0200
TZNAME:CEST
DTSTART:20220327T010000
END:DAYLIGHT
BEGIN:STANDARD
TZOFFSETFROM:+0200
TZOFFSETTO:+0100
TZNAME:CET
DTSTART:20221030T010000
END:STANDARD
BEGIN:DAYLIGHT
TZOFFSETFROM:+0100
TZOFFSETTO:+0200
TZNAME:CEST
DTSTART:20230326T010000
END:DAYLIGHT
BEGIN:STANDARD
TZOFFSETFROM:+0200
TZOFFSETTO:+0100
TZNAME:CET
DTSTART:20231029T010000
END:STANDARD
BEGIN:DAYLIGHT
TZOFFSETFROM:+0100
TZOFFSETTO:+0200
TZNAME:CEST
DTSTART:20240331T010000
END:DAYLIGHT
BEGIN:STANDARD
TZOFFSETFROM:+0200
TZOFFSETTO:+0100
TZNAME:CET
DTSTART:20241027T010000
END:STANDARD
END:VTIMEZONE
BEGIN:VEVENT
DTSTART;VALUE=DATE:20230525
DTEND;VALUE=DATE:20230527
DTSTAMP:20260422T200146
CREATED:20230504T101648Z
LAST-MODIFIED:20230504T101648Z
UID:6137-1684972800-1685145599@www.petale07.org
SUMMARY:carav'âne SORTIR!
DESCRIPTION:‌La carav’âne SORTIR! \, Halte à Lussas et le plateau de Jastres pour la 3e édition.\n\nL’association Pierre feuille Ciseaux ainsi que ses partenaires Flore et Sens et camin’âne\, ont la joie de vous inviter le jeudi 25 mai à Lussas à partir de 18h\, pour partager une auberge espagnole\, ainsi qu’un moment d’échange autour de l’exposition « le syndrome de manque de nature ».\nDes ateliers (encre végétale\, musique verte\, teinture… et atelier avec les ânes) vous seront proposés gratuitement\, et nous terminerons la soirée autour d’un conte. \nLa carav’âne SORTIR! c’est quoi? \nInitiée en 2019 par camin’âne et des membres du groupe SORTIR07\, c’est une itinérance au pas de l’âne pour aller à la rencontre de différentes structures partager nos expériences\, nos savoirs-faire et savoirs-être en éducation à l’environnement\, pour sensibiliser une diversité de publics au syndrome du manque de nature et promouvoir l’éducation dans et par la nature\, accompagnée de professionnels du territoire ardéchois. \nLe jeudi 25 et vendredi 26 est réservé à des publics spécifiques. Mais la soirée du jeudi 25 est ouverte à tous-tes! Venez nombreux-euses\, nous rencontrer et échanger sur notre besoin de nature! \nAu plaisir. Beau printemps à tous-tes.\nInfo et contact dans l’affiche en PJ
URL:https://www.petale07.org/event/caravane-sortir/
LOCATION:Lussas\, lussas\, 07170\, France
CATEGORIES:Animation / atelier,Evenementiel
ATTACH;FMTTYPE=application/pdf:https://www.petale07.org/wp-content/uploads/2023/05/Flyer-A-5-presentation-Carav-ane-1-1-1.pdf
ORGANIZER;CN="Camin'%C3%A2ne":MAILTO:contactcaminane@laposte.net
END:VEVENT
END:VCALENDAR