BEGIN:VCALENDAR
VERSION:2.0
PRODID:-//Pétale 07 - ECPv6.15.20//NONSGML v1.0//EN
CALSCALE:GREGORIAN
METHOD:PUBLISH
X-WR-CALNAME:Pétale 07
X-ORIGINAL-URL:https://www.petale07.org
X-WR-CALDESC:Évènements pour Pétale 07
REFRESH-INTERVAL;VALUE=DURATION:PT1H
X-Robots-Tag:noindex
X-PUBLISHED-TTL:PT1H
BEGIN:VTIMEZONE
TZID:Europe/Paris
BEGIN:DAYLIGHT
TZOFFSETFROM:+0100
TZOFFSETTO:+0200
TZNAME:CEST
DTSTART:20220327T010000
END:DAYLIGHT
BEGIN:STANDARD
TZOFFSETFROM:+0200
TZOFFSETTO:+0100
TZNAME:CET
DTSTART:20221030T010000
END:STANDARD
BEGIN:DAYLIGHT
TZOFFSETFROM:+0100
TZOFFSETTO:+0200
TZNAME:CEST
DTSTART:20230326T010000
END:DAYLIGHT
BEGIN:STANDARD
TZOFFSETFROM:+0200
TZOFFSETTO:+0100
TZNAME:CET
DTSTART:20231029T010000
END:STANDARD
BEGIN:DAYLIGHT
TZOFFSETFROM:+0100
TZOFFSETTO:+0200
TZNAME:CEST
DTSTART:20240331T010000
END:DAYLIGHT
BEGIN:STANDARD
TZOFFSETFROM:+0200
TZOFFSETTO:+0100
TZNAME:CET
DTSTART:20241027T010000
END:STANDARD
END:VTIMEZONE
BEGIN:VEVENT
DTSTART;TZID=Europe/Paris:20230524T100000
DTEND;TZID=Europe/Paris:20230524T210000
DTSTAMP:20260422T200039
CREATED:20230428T154657Z
LAST-MODIFIED:20230621T141013Z
UID:6120-1684922400-1684962000@www.petale07.org
SUMMARY:Retour sur l'Assemblée générale de Pétale 07 : une journée d'échanges et de partage de pratiques professionnelles
DESCRIPTION:A l’occasion de son Assemblée générale le 24 mai 2023\, les acteurs et partenaires du Collectif Pétale 07 ont organisé\n une journée d’échanges et de partage de pratiques professionnelles\, avec un programme à la carte :\nMerci pour votre intérêt et votre participation qui a contribué au succès de cet événement!\n  \nNous espérons que la conférence du matin\, les ateliers d’animation sur le terrain et les temps conviviaux\, ont été pour vous l’occasion de mieux comprendre les projets du collectif Pétale 07 et de partager une vision de l’avenir avec des animateurs nature\, des éducateurs à l’environnement\, des partenaires\, …\n\n\n  \n► Voir l’article de presse paru sur Le Dauphiné\n\n\n\n\n\n        \n            \n                                \n                                        \n                        \n                        Slide 1Accueil le matin : Par le domaine du Pradel\, le Réseau Jeunesse\, AMESUD et Pétale 07 \nSlide 3Matin:  Animation Marie Simon \nSlide 2Conférence: L'éco-anxiété des jeunes par Laelia Benoit  \nSlide 4Moment convial:  Pique nique partagé \nSlide 5Prise de parole Jean Marc Giacopelli (Domaine le Pradel)  \nSlide 6Atelier Cuisiner des légumineuses :  Par le Mat 07 \nSlide 7Atelier La Fresque du Climat:  Par la FRAPNA 07 \nSlide 7Atelier Escape Game Retour à l'origine:  Par Mésange & Libellule \nSlide 7Atelier Tiques et Coccinelles:  Par Mi-Syrphe mi-Raisin \nSlide 7Atelier Fabrication d'un lombricomposteur:  Par VIE \nSlide 7Atelier les Insectes à la loupe :  Par Paléodécouvertes \nSlide 7Atelier Initiation Shinrin Yoku:  Par Les Chouettes Curieuses \nSlide 7Atelier Porté disparu:  Par l'OCCE \nSlide 7Atelier confection de baumes naturels:  Par la Rose et l'Hellébore \nSlide 7Atelier cultiver et produire son jardin pédagogique:  Par les CIVAM 07 et Atouts Bouts d'Champs \nSlide 7Pause goûter:  Par l'atelier légumineuses \nSlide 7Assemblée Générale ordianire :  Pétale 07 \nSlide 7Blablapéro :  Discussion question de l'eau avec l'EPTB \n\n                \n                            \n        \n        \n  \n↓ ↓ Retrouvez ci-dessous des ressources relatives au programme de la journée ↓ ↓\n  \n9h30 – 12h30 : L’éco-anxiété chez les jeunes\, prise de hauteur et possibilités d’accompagnement\n Atelier d’échanges de pratiques #2 avec les acteurs et partenaires du Réseau Jeunesse Ardèche\, avec Laelia Benoit\, pédopsychiatre et chercheuse \nEn savoir +\n► Des ressources pour aller + loin :\n\nLa lettre d’info #3 du Réseau Jeunesse Ardèchois\, avec un article sur l’atelier du 24 mai ► Cliquer ici\nLe cycle de Webinaires « Santé psychique et environnement : des liens multiples » du Pôle régional Éducation et promotion de la Santé-Environnement\, disponible sur le site ressources agir-ese.org ► Cliquer ici\nLa formation « Face aux crises environnementales et sociales\, des repères pour agir collectivement » qui aura lieu lundi 9 et mardi 10 octobre\, lundi 4 et mardi 5 décembre 2023 et lundi 12 février 2024 avec Fabien Bressan de Labo’Cités\, Lucie Pelosse de l’IREPS ARA\, Mélanie Rousset de l’AuRACS et Frédéric Villaumé du GRAINE ARA à Lyon (69) ► Cliquer ici\nLe podcast « Vivre avec l’effondrement et revivre de ses cendres ! » sur France culture ou comment dépasser l’éco-anxiété des jeunes et transformer le catastrophisme en un avenir radieux\, avec Pablo Servigne\, agronome et docteur en biologie\, et Laelia Benoit\, pédopsychiatre\, chercheuse à l’Inserm ► Cliquer ici\nL’article « Éco-anxiété\, un enjeu de santé mentale ? » de  Julie DONJON\, chargée de projet régional\, co-référente santé mentale à l’IREPS ARA et publié dans la revue Santé Mentale (Hors série\, aout 2022) ► Cliquer ici\n\nLes 2èmes Rencontres Régionales Éducation et promotion de la Santé Environnement les 8\, 9 et 10 novembre 2023 à Bourg de Péage dans la Drôme ► Cliquer ici  \n\n12h30 – 13h30 : Pique-nique partagé au jardin \nRepas tiré du sac et café-thé d’accueil des participants de l’après-midi \n  \n13h30 – 16h30 : Tous dehors\, c’est la fête de la nature !\nEscape Game de la transition\, enquête « Porté disparu »\, fresque du climat\, atelier cosmétique avec des plantes sauvages\, approche sensible de la nature\, randonnée en pays volcanique\, découverte des insectes\, compost et jardin\, cuisines nourricières\, tactique anti-tiques\, pollens et compagnies\, … \n>> Une quinzaine d’ateliers au choix pour vivre et découvrir des supports pédagogiques et des animations\, avec des approches variées\, que vous pourrez proposer aux jeunes et moins jeunes ! \nUne dizaine de structures du collectif vont vous faire vivre ces activités entre adultes (parents\, enseignants\, animateurs jeunesse\, partenaires institutionnels\, étudiants\, élus\, habitants\,…) et voir avec vous comment emmener d’avantage les jeunes dans la nature\, stimuler leur curiosité et favoriser leur lien au vivant. \nVoir le programme détaillé des ateliers\nVoir les contacts des intervenants ici \n16h30 – 17h00 : Pause goûter\nUne dégustation issue de l’atelier cuisine de l’après-midi et accueil des participants à l’AG \n  \n17h00 – 19h00 : Assemblée générale ordinaire de Pétale 07\, ouverte à tous\n\n \n\n\nPrésentation des rapports moral\, financier et d’activités 2022\nDiscussion et échanges sur le fonctionnement du collectif\, ses perspectives et les projets 2023\nVotes : approbation du rapport d’activité et des comptes 2022\, affectation du résultat\, élection des membres de la Collégiale\, montant des cotisations\n\n\n► Voir le rapport d’activités 2022\n► Voir le rapport moral 2022\n► Voir le rapport financier 2022\n  \n19h00 – 21h00 : Blabl’apéro dinatoire : « L‘eau\, un sujet au cœur de nos pratiques éducatives »\nUn temps convivial de discussion sur le thème de l’eau\, pour échanger sur nos points de vue et nos initiatives autour d’un buffet partagé \n  \n► Des ressources pour aller + loin :\n\nExposition sur les rivières du bassin versant de l’Ardèche (EPTB) ► Cliquer ici\nPlaquette d’animations tout public de l’EPTB de l’Ardèche « Les bons tuyaux pour économiser l’eau » ► Cliquer ici\nL’espace Pédag’eau sur le site de l’EPTB de l’Ardèche\, pour tout savoir sur l’offre pédagogique de l’EPTB en direction des écoles primaires et des collèges du bassin versant de l’Ardèche ► Cliquer ici\n\nLe lieu :\nNous sommes accueillis par L’EPLEFPA Olivier de Serres et le CERMOSEM\nRendez-vous au Domaine du Pradel 07170 Mirabel
URL:https://www.petale07.org/event/assemblee-generale-de-petale-07-une-journee-dechanges-et-de-partage-de-pratiques-professionnelles/
LOCATION:Le Pradel\, Domaine Olivier de Serres\, Mirabel\, 07170\, France
CATEGORIES:Animation / atelier,Evenementiel,Groupe agriculture alimentation,Groupe Eduquer dehors,Groupe ESE,Groupe Sortir,Vie du collectif
ATTACH;FMTTYPE=image/png:https://www.petale07.org/wp-content/uploads/2023/04/Visuel-AG-2023_2.png
END:VEVENT
END:VCALENDAR