BEGIN:VCALENDAR
VERSION:2.0
PRODID:-//Pétale 07 - ECPv6.15.20//NONSGML v1.0//EN
CALSCALE:GREGORIAN
METHOD:PUBLISH
X-ORIGINAL-URL:https://www.petale07.org
X-WR-CALDESC:Évènements pour Pétale 07
REFRESH-INTERVAL;VALUE=DURATION:PT1H
X-Robots-Tag:noindex
X-PUBLISHED-TTL:PT1H
BEGIN:VTIMEZONE
TZID:Europe/Paris
BEGIN:DAYLIGHT
TZOFFSETFROM:+0100
TZOFFSETTO:+0200
TZNAME:CEST
DTSTART:20220327T010000
END:DAYLIGHT
BEGIN:STANDARD
TZOFFSETFROM:+0200
TZOFFSETTO:+0100
TZNAME:CET
DTSTART:20221030T010000
END:STANDARD
BEGIN:DAYLIGHT
TZOFFSETFROM:+0100
TZOFFSETTO:+0200
TZNAME:CEST
DTSTART:20230326T010000
END:DAYLIGHT
BEGIN:STANDARD
TZOFFSETFROM:+0200
TZOFFSETTO:+0100
TZNAME:CET
DTSTART:20231029T010000
END:STANDARD
BEGIN:DAYLIGHT
TZOFFSETFROM:+0100
TZOFFSETTO:+0200
TZNAME:CEST
DTSTART:20240331T010000
END:DAYLIGHT
BEGIN:STANDARD
TZOFFSETFROM:+0200
TZOFFSETTO:+0100
TZNAME:CET
DTSTART:20241027T010000
END:STANDARD
END:VTIMEZONE
BEGIN:VEVENT
DTSTART;TZID=Europe/Paris:20230203T090000
DTEND;TZID=Europe/Paris:20230203T183000
DTSTAMP:20260423T000735
CREATED:20230116T112829Z
LAST-MODIFIED:20230314T110404Z
UID:5805-1675414800-1675449000@www.petale07.org
SUMMARY:Forum Jeunesse en mouvement à Privas
DESCRIPTION:Le SDJES Ardèche\, la Capca et la Maison de l’Europe/EUROPE DIRECT Drôme Ardèche organisent le Forum Jeunesse en mouvement le 3 février à l’Espace Ouvèze à Privas.  \nCe Forum a pour but de présenter les différents dispositifs d’engagement (local et international) et de mobilité à travers le monde pour les jeunes de 11 à 30 ans. Plusieurs partenaires locaux dont Pétale 07 viendront présenter leurs structures et les opportunités offertes aux jeunes\, mais le Forum disposera également d’un espace dédié aux professionnels qui souhaiteraient monter des projets et qui ont besoin de ressources. \nLe forum est gratuit et accessible à toutes et tous ; toutefois\, pour améliorer l’accueil des groupes\, nous vous invitons à les inscrire via ce formulaire.  \nToutes les infos
URL:https://www.petale07.org/event/forum-jeunesse-en-mouvement-a-privas/
LOCATION:Espace Ouvèze\, 205-235 Boulevard de Paste\, Privas\, 07000\, France
CATEGORIES:Evenementiel
ATTACH;FMTTYPE=image/png:https://www.petale07.org/wp-content/uploads/2023/01/AFFICHE-Forum-Jeunesse-en-mouvement.png
END:VEVENT
END:VCALENDAR