BEGIN:VCALENDAR
VERSION:2.0
PRODID:-//Pétale 07 - ECPv6.15.20//NONSGML v1.0//EN
CALSCALE:GREGORIAN
METHOD:PUBLISH
X-ORIGINAL-URL:https://www.petale07.org
X-WR-CALDESC:Évènements pour Pétale 07
REFRESH-INTERVAL;VALUE=DURATION:PT1H
X-Robots-Tag:noindex
X-PUBLISHED-TTL:PT1H
BEGIN:VTIMEZONE
TZID:Europe/Paris
BEGIN:DAYLIGHT
TZOFFSETFROM:+0100
TZOFFSETTO:+0200
TZNAME:CEST
DTSTART:20210328T010000
END:DAYLIGHT
BEGIN:STANDARD
TZOFFSETFROM:+0200
TZOFFSETTO:+0100
TZNAME:CET
DTSTART:20211031T010000
END:STANDARD
BEGIN:DAYLIGHT
TZOFFSETFROM:+0100
TZOFFSETTO:+0200
TZNAME:CEST
DTSTART:20220327T010000
END:DAYLIGHT
BEGIN:STANDARD
TZOFFSETFROM:+0200
TZOFFSETTO:+0100
TZNAME:CET
DTSTART:20221030T010000
END:STANDARD
BEGIN:DAYLIGHT
TZOFFSETFROM:+0100
TZOFFSETTO:+0200
TZNAME:CEST
DTSTART:20230326T010000
END:DAYLIGHT
BEGIN:STANDARD
TZOFFSETFROM:+0200
TZOFFSETTO:+0100
TZNAME:CET
DTSTART:20231029T010000
END:STANDARD
END:VTIMEZONE
BEGIN:VEVENT
DTSTART;TZID=Europe/Paris:20221214T193000
DTEND;TZID=Europe/Paris:20221214T213000
DTSTAMP:20260423T024142
CREATED:20221213T124531Z
LAST-MODIFIED:20221213T124531Z
UID:5707-1671046200-1671053400@www.petale07.org
SUMMARY:Conférence Plastique et santé
DESCRIPTION:Le Pôle Enfance Jeunesse accueillera Nelly Pons\, auteure de « Océan plastique » et « Déplastifier sa vie » chez Actes Sud. Ce sera l’occasion d’en savoir un peu plus sur l’impact de cette matière sur notre santé\, celle de nos enfants et les moyens de s’en protéger. Cette soirée est proposée par la Communauté de Communes du Val de Ligne dans le cadre du projet Education Santé Environnement en partenariat avec l’ARS. \nCette soirée est ouverte à tous. \nEt pour ceux qui ne s’y sont pas encore rendus\, c’est également une belle occasion de découvrir le bâtiment du Pôle Enfance Jeunesse du Val de Ligne.
URL:https://www.petale07.org/event/conference-plastique-et-sante/
LOCATION:Pôle Enfance Jeunesse à LARGENTIERE\, 4 avenue des Marronniers\, LARGENTIÈRE\, 07110\, France
CATEGORIES:Evenementiel
ATTACH;FMTTYPE=image/jpeg:https://www.petale07.org/wp-content/uploads/2022/12/14-decembre-2022-Largentiere-conference-plastique.jpg
END:VEVENT
END:VCALENDAR