BEGIN:VCALENDAR
VERSION:2.0
PRODID:-//Pétale 07 - ECPv6.15.20//NONSGML v1.0//EN
CALSCALE:GREGORIAN
METHOD:PUBLISH
X-ORIGINAL-URL:https://www.petale07.org
X-WR-CALDESC:Évènements pour Pétale 07
REFRESH-INTERVAL;VALUE=DURATION:PT1H
X-Robots-Tag:noindex
X-PUBLISHED-TTL:PT1H
BEGIN:VTIMEZONE
TZID:Europe/Paris
BEGIN:DAYLIGHT
TZOFFSETFROM:+0100
TZOFFSETTO:+0200
TZNAME:CEST
DTSTART:20210328T010000
END:DAYLIGHT
BEGIN:STANDARD
TZOFFSETFROM:+0200
TZOFFSETTO:+0100
TZNAME:CET
DTSTART:20211031T010000
END:STANDARD
BEGIN:DAYLIGHT
TZOFFSETFROM:+0100
TZOFFSETTO:+0200
TZNAME:CEST
DTSTART:20220327T010000
END:DAYLIGHT
BEGIN:STANDARD
TZOFFSETFROM:+0200
TZOFFSETTO:+0100
TZNAME:CET
DTSTART:20221030T010000
END:STANDARD
BEGIN:DAYLIGHT
TZOFFSETFROM:+0100
TZOFFSETTO:+0200
TZNAME:CEST
DTSTART:20230326T010000
END:DAYLIGHT
BEGIN:STANDARD
TZOFFSETFROM:+0200
TZOFFSETTO:+0100
TZNAME:CET
DTSTART:20231029T010000
END:STANDARD
END:VTIMEZONE
BEGIN:VEVENT
DTSTART;TZID=Europe/Paris:20221119T090000
DTEND;TZID=Europe/Paris:20221119T120000
DTSTAMP:20260423T035746
CREATED:20221110T100340Z
LAST-MODIFIED:20221202T180148Z
UID:5602-1668848400-1668859200@www.petale07.org
SUMMARY:Projet alimentation « ET TOI QU’EST-CE QUE TU MANGES ? » - 2ème atelier: 19 novembre 2022
DESCRIPTION:2ème atelier : MANGER MALIN\nPour ne plus se faire « carotter » venez enquêter !\nSAMEDI 19 NOVEMBRE 2022 – DE 9H À 12H\n• VISITE : « Atouts bouts d’Champs »\, ferme de maraîchage bio\,\nà la découverte des légumes du coin (quartier St-Pierre à Aubenas).\n• ÉCHANGE : C’est quoi le bio ? Le local ? Cher ou pas cher ?\nZéro déchet : les restes autrement ou l’antigaspi !\n• ATELIER : semi.\nGRATUIT – Sur inscription : 04.75.35.00.73 – csclepalabre@gmail.com
URL:https://www.petale07.org/event/projet-alimentation-et-toi-quest-ce-que-tu-manges-2eme-atelier-19-novembre-2022/
LOCATION:Centre socio-culturel Le Palabre – Aubenas\, Centre socio-culturel Le Palabre - 6 rue Albert Seibel\, AUBENAS\, 07200\, France
CATEGORIES:Evenementiel,Groupe agriculture alimentation,Rencontre / entretien
ATTACH;FMTTYPE=image/jpeg:https://www.petale07.org/wp-content/uploads/2022/11/AFFICHE-Projet-alimentation-Familles-19-NOV-2022.pub_page-00011.jpg
ORGANIZER;CN="Centre socio-culturel Le Palabre":MAILTO:csclepalabre@gmail.com
END:VEVENT
END:VCALENDAR