BEGIN:VCALENDAR
VERSION:2.0
PRODID:-//Pétale 07 - ECPv6.15.20//NONSGML v1.0//EN
CALSCALE:GREGORIAN
METHOD:PUBLISH
X-ORIGINAL-URL:https://www.petale07.org
X-WR-CALDESC:Évènements pour Pétale 07
REFRESH-INTERVAL;VALUE=DURATION:PT1H
X-Robots-Tag:noindex
X-PUBLISHED-TTL:PT1H
BEGIN:VTIMEZONE
TZID:Europe/Paris
BEGIN:DAYLIGHT
TZOFFSETFROM:+0100
TZOFFSETTO:+0200
TZNAME:CEST
DTSTART:20210328T010000
END:DAYLIGHT
BEGIN:STANDARD
TZOFFSETFROM:+0200
TZOFFSETTO:+0100
TZNAME:CET
DTSTART:20211031T010000
END:STANDARD
BEGIN:DAYLIGHT
TZOFFSETFROM:+0100
TZOFFSETTO:+0200
TZNAME:CEST
DTSTART:20220327T010000
END:DAYLIGHT
BEGIN:STANDARD
TZOFFSETFROM:+0200
TZOFFSETTO:+0100
TZNAME:CET
DTSTART:20221030T010000
END:STANDARD
BEGIN:DAYLIGHT
TZOFFSETFROM:+0100
TZOFFSETTO:+0200
TZNAME:CEST
DTSTART:20230326T010000
END:DAYLIGHT
BEGIN:STANDARD
TZOFFSETFROM:+0200
TZOFFSETTO:+0100
TZNAME:CET
DTSTART:20231029T010000
END:STANDARD
END:VTIMEZONE
BEGIN:VEVENT
DTSTART;TZID=Europe/Paris:20221116T110000
DTEND;TZID=Europe/Paris:20221116T130000
DTSTAMP:20260423T035745
CREATED:20221110T102332Z
LAST-MODIFIED:20221110T102332Z
UID:5605-1668596400-1668603600@www.petale07.org
SUMMARY:Rencontre professionnelle: lancement l'Ardèche De Ferme en Ferme 2023
DESCRIPTION:Afin de dynamiser l’Ardèche De Ferme en Ferme 2023\, la Fédération départementale des CIVAM de l’Ardèche vous convie à une rencontre professionnelle sous forme de visite de ferme afin de vous présenter l’évènement. \nFERME OUVERTE du Mercredi 16 novembre de 11 à 13h à la Spiruline des Monts d’Ardèche à Saint-Jeure-d’Andaure. \nBienvenue à vous agriculteurs et agricultrices désireux.ses d’ouvrir vos fermes pour promouvoir l’agriculture durable auprès du grand public\, faire découvrir la qualité de vos produits et vos savoir-faire.\nBienvenue à vous restaurateurs désireux de devenir des partenaires pour valoriser les produits des agriculteurs participants \nAU PROGRAMME:\n• Accueil des personnes intéressées\nPROGRAMME\n• Recueil des interrogations\n• Visite de ferme : « comme si on y était »\n• Présentation de l’organisation et des modalités de participation\n• Réponses aux questions\n• Verre de l’amitié \nInscrivez-vous en ligne
URL:https://www.petale07.org/event/rencontre-professionnelle-lancement-lardeche-de-ferme-en-ferme-2023/
LOCATION:Spiruline des Monts d’Ardèche\, Mazabrad - 4870 route de Labatie\, saint Jeure d'Andaure\, 07320
CATEGORIES:Evenementiel,Groupe agriculture alimentation
ATTACH;FMTTYPE=application/pdf:https://www.petale07.org/wp-content/uploads/2022/11/Ferme-ouverte-DFF-2023-16-nov-Spiruline_compressed.pdf
ORGANIZER;CN="FD CIVAM Ard%C3%A8che":MAILTO:contact@civamardeche.org
END:VEVENT
END:VCALENDAR