BEGIN:VCALENDAR
VERSION:2.0
PRODID:-//Pétale 07 - ECPv6.15.20//NONSGML v1.0//EN
CALSCALE:GREGORIAN
METHOD:PUBLISH
X-WR-CALNAME:Pétale 07
X-ORIGINAL-URL:https://www.petale07.org
X-WR-CALDESC:Évènements pour Pétale 07
REFRESH-INTERVAL;VALUE=DURATION:PT1H
X-Robots-Tag:noindex
X-PUBLISHED-TTL:PT1H
BEGIN:VTIMEZONE
TZID:Europe/Paris
BEGIN:DAYLIGHT
TZOFFSETFROM:+0100
TZOFFSETTO:+0200
TZNAME:CEST
DTSTART:20210328T010000
END:DAYLIGHT
BEGIN:STANDARD
TZOFFSETFROM:+0200
TZOFFSETTO:+0100
TZNAME:CET
DTSTART:20211031T010000
END:STANDARD
BEGIN:DAYLIGHT
TZOFFSETFROM:+0100
TZOFFSETTO:+0200
TZNAME:CEST
DTSTART:20220327T010000
END:DAYLIGHT
BEGIN:STANDARD
TZOFFSETFROM:+0200
TZOFFSETTO:+0100
TZNAME:CET
DTSTART:20221030T010000
END:STANDARD
BEGIN:DAYLIGHT
TZOFFSETFROM:+0100
TZOFFSETTO:+0200
TZNAME:CEST
DTSTART:20230326T010000
END:DAYLIGHT
BEGIN:STANDARD
TZOFFSETFROM:+0200
TZOFFSETTO:+0100
TZNAME:CET
DTSTART:20231029T010000
END:STANDARD
END:VTIMEZONE
BEGIN:VEVENT
DTSTART;TZID=Europe/Paris:20221008T100000
DTEND;TZID=Europe/Paris:20221009T180000
DTSTAMP:20260423T052458
CREATED:20220922T152329Z
LAST-MODIFIED:20220923T134522Z
UID:4949-1665223200-1665338400@www.petale07.org
SUMMARY:Des acteurs de Pétale 07 au Village des Sciences à La Voulte
DESCRIPTION:Le CCSTI de l’Ardèche coordonne la Fête de la Science sur le département\, événement national dont la thématique 2022 est « la transition climatique\, atténuation et adaptation ». Dans ce cadre\, il organise chaque année le Village des Sciences qui favorise chaque année les rencontres et les échanges entre la communauté scientifique et le grand public. Cette année\, le Village des Sciences se tiendra les 8 et 9 octobre au collège des Trois Vallées de La Voulte-sur-Rhône.\n\nEn partenariat avec le CCSTI\, 4 acteurs du collectif Pétale 07 contribuent à cet évènement et proposent des stands et ateliers :\n\ndans le cadre de notre partenariat avec l’URCPIE\, l’association V.I.E propose au public de découvrir l’ambroisie\, plante allergisante\, et le cycle de vie des plantes (tout public – samedi 8 octobre toute la journée\, ateliers sur inscription à 10h30\, 14h et 16h)\ntoujours dans le cadre de notre partenariat avec l’URCPIE\, l’association Mi-syrphe Mi-raisin fait un coup de zoom sur les tiques\, microscopes à l’appui (tout public – dimanche 9 octobre toute la journée\, ateliers sur inscription à 10h30\, 14h et 16h)\n\nl’association La Rose & l’Hellébore propose au public de s’approprier les fondamentaux du compostage (tout public – samedi 8 et dimanche 9 octobre tout le journée\, ateliers sur inscription à à 10h30\, 13h30 et 16h)\n\nPaléodécouvertes – Museum de l’Ardèche propose 3 stands interactifs : « immersion dans les climats du monde » en réalité virtuelle\, « Mission ingénieur météo » et « Mission ingénieur climat » (samedi 8 et dimanche 9 octobre de 10h à 18h)\n\nVoir le programme du Village des Sciences 2022
URL:https://www.petale07.org/event/4949/
LOCATION:La Voulte sur Rhône\, La Voulte sur Rhône\, France
CATEGORIES:Animation / atelier,Evenementiel
ATTACH;FMTTYPE=image/jpeg:https://www.petale07.org/wp-content/uploads/2022/09/village-de-la-science.jpg
END:VEVENT
END:VCALENDAR