BEGIN:VCALENDAR
VERSION:2.0
PRODID:-//Pétale 07 - ECPv6.15.20//NONSGML v1.0//EN
CALSCALE:GREGORIAN
METHOD:PUBLISH
X-ORIGINAL-URL:https://www.petale07.org
X-WR-CALDESC:Évènements pour Pétale 07
REFRESH-INTERVAL;VALUE=DURATION:PT1H
X-Robots-Tag:noindex
X-PUBLISHED-TTL:PT1H
BEGIN:VTIMEZONE
TZID:Europe/Paris
BEGIN:DAYLIGHT
TZOFFSETFROM:+0100
TZOFFSETTO:+0200
TZNAME:CEST
DTSTART:20210328T010000
END:DAYLIGHT
BEGIN:STANDARD
TZOFFSETFROM:+0200
TZOFFSETTO:+0100
TZNAME:CET
DTSTART:20211031T010000
END:STANDARD
BEGIN:DAYLIGHT
TZOFFSETFROM:+0100
TZOFFSETTO:+0200
TZNAME:CEST
DTSTART:20220327T010000
END:DAYLIGHT
BEGIN:STANDARD
TZOFFSETFROM:+0200
TZOFFSETTO:+0100
TZNAME:CET
DTSTART:20221030T010000
END:STANDARD
BEGIN:DAYLIGHT
TZOFFSETFROM:+0100
TZOFFSETTO:+0200
TZNAME:CEST
DTSTART:20230326T010000
END:DAYLIGHT
BEGIN:STANDARD
TZOFFSETFROM:+0200
TZOFFSETTO:+0100
TZNAME:CET
DTSTART:20231029T010000
END:STANDARD
END:VTIMEZONE
BEGIN:VEVENT
DTSTART;VALUE=DATE:20220514
DTEND;VALUE=DATE:20220515
DTSTAMP:20260423T123527
CREATED:20220414T121054Z
LAST-MODIFIED:20220829T132038Z
UID:3325-1652486400-1652572799@www.petale07.org
SUMMARY:Terre & Humanisme en fête !
DESCRIPTION:L’évènement\, initialement prévu le 23 avril\, a été reporté à causes des conditions météo au samedi 14 mai.\n \nAprès deux années sans pouvoir se rassembler\, nous nous réjouissons de vous retrouver enfin en chair et en os le samedi 14 mai toute la journée à Payzac\, pour un moment vivant\, riche et festif autour de nos valeurs partagées : agroécologie\, humanisme\, convivialité et partage ! \nLe programme de cette journée : \n10h : Assemblée générale de Terre & Humanisme\n14h30 : Table-ronde sur l’agroécologie avec la présence exceptionnelle de Marc Dufumier et Xavier Poux \n16h30 : Animations – balade plantes sauvages comestibles avec Stéphane J ; grands jeux en bois et animation nature pour petits et grands\n18h : Hommage à Pierre Rabhi – lecture de textes\, Chorale Graines de Chœur\n21h : Soirée concerts sous chapiteau avec La Sève – rythmes endiablés et chants d’influence afro \n> L’entrée est à prix libre (gratuite pour les adhérents).\n> Stands de nourriture et buvette présents toute la journée. \nPour s’inscrire à l’évènement (et nous permettre d’estimer le nombre de participants) cliquez ici 🙂  \nA bientôt !
URL:https://www.petale07.org/event/terre-humanisme-en-fete/
LOCATION:Payzac\, La mérigue\, Payzac\, 07230\, France
CATEGORIES:Evenementiel
ATTACH;FMTTYPE=image/jpeg:https://www.petale07.org/wp-content/uploads/2022/04/Affiche-mini.jpg
ORGANIZER;CN="Terre &amp%3B Humanisme":MAILTO:infos@terre-humanisme.org
END:VEVENT
END:VCALENDAR