BEGIN:VCALENDAR
VERSION:2.0
PRODID:-//Pétale 07 - ECPv6.15.20//NONSGML v1.0//EN
CALSCALE:GREGORIAN
METHOD:PUBLISH
X-WR-CALNAME:Pétale 07
X-ORIGINAL-URL:https://www.petale07.org
X-WR-CALDESC:Évènements pour Pétale 07
REFRESH-INTERVAL;VALUE=DURATION:PT1H
X-Robots-Tag:noindex
X-PUBLISHED-TTL:PT1H
BEGIN:VTIMEZONE
TZID:Europe/Paris
BEGIN:DAYLIGHT
TZOFFSETFROM:+0100
TZOFFSETTO:+0200
TZNAME:CEST
DTSTART:20200329T010000
END:DAYLIGHT
BEGIN:STANDARD
TZOFFSETFROM:+0200
TZOFFSETTO:+0100
TZNAME:CET
DTSTART:20201025T010000
END:STANDARD
BEGIN:DAYLIGHT
TZOFFSETFROM:+0100
TZOFFSETTO:+0200
TZNAME:CEST
DTSTART:20210328T010000
END:DAYLIGHT
BEGIN:STANDARD
TZOFFSETFROM:+0200
TZOFFSETTO:+0100
TZNAME:CET
DTSTART:20211031T010000
END:STANDARD
BEGIN:DAYLIGHT
TZOFFSETFROM:+0100
TZOFFSETTO:+0200
TZNAME:CEST
DTSTART:20220327T010000
END:DAYLIGHT
BEGIN:STANDARD
TZOFFSETFROM:+0200
TZOFFSETTO:+0100
TZNAME:CET
DTSTART:20221030T010000
END:STANDARD
END:VTIMEZONE
BEGIN:VEVENT
DTSTART;TZID=Europe/Paris:20211127T140000
DTEND;TZID=Europe/Paris:20211127T203000
DTSTAMP:20260423T205628
CREATED:20211116T112630Z
LAST-MODIFIED:20220510T091828Z
UID:2667-1638021600-1638045000@www.petale07.org
SUMMARY:Imaginaires et Tapis Rouge
DESCRIPTION:Venez partager un premier temps de rencontre\, d’échange et de découverte autour des nouveaux imaginaires et de la préservation du vivant.\nQuels nouveaux récits pourraient nous permettre de répondre aux enjeux sociaux et environnementaux actuels ?\nQuels rôles peuvent jouer les artistes et\, plus globalement\, le monde de la culture ?\nQuelle implication des acteurs du territoire pour avancer sur ce sujet brûlant ? \nDe 13h30 à 17h\, en continue \n\n\nEspace dédié à la forêt avec notamment la présence de l’artiste Eric Angenot\, qui présentera des supports autour de la complexité forestière. Convaincu que les artistes peuvent élargir le cadre de leurs pratiques\, Eric Angenot a créé Postindustrial Animism\, un projet collectif\, basé sur la collaboration entre artistes sur des questions environnementales\, dans le but d’initier des liens entre pratiques artistiques et pratiques écologiques militantes. \n\n\nEspace Librairie avec le Tiers Temps  \n\n\nProjection en boucle du film « L’éloge de l’Arbre » d’Eric Watt\, 33 min.\nManifeste poétique et écolgique\, d’après le texte paru dans Les Carnets du paysage de Gilles Clément. \n\n\n14h : TABLE RONDE « De nouveaux imaginaires au service du vivant » \nAvec Valérie Zoydo\, co-fondatrice du collectif Atmosphères (nouveaux récits) avec l’Ademe et le festival Atmosphères\, “storytelleuse” du changement individuel et collectif ; Marie Lusson\, docteure en Anthropologie et réalisatrice\, en phase de création d’un nouveau film engagé\, expérimentant une approche à la fois scientifique et sensible ; et Luc Marescot\, réalisateur de “Poumon vert & Tapis Rouge”. \nParticiperont également à l’échange : Frédéric Jacquemart\, président de la Frapna Ardèche ; David Moinard\, association Sur le Sentier des Lauzes\, Atelier ; et Brieuc Mével\, saison culturelle Le pied aux planches / Lignes d’Horizon. \nTable ronde animée par Nelly Pons\, journaliste\, auteure et conférencière engagée. \n  \n17h – 20h : Projection de “Poumon Vert et Tapis Rouge” de Luc Marescot\, suivie d’une discussion avec le réalisateur. \n  \nJournée à l’initiative de la Frapna Ardèche\, co-organisée avec l’Imaginaïre – Village Documentaire\, en partenariat avec L’Ecole Documentaire\, l’association Sur le sentier des Lauzes\, Le pied au planches/ Lignes d’Horizon et la librairie du Tiers Temps. \nMoment convivial qui relie nature et culture\, art\, imaginaires et écologie\, au service de la préservation du vivant. Premier d’une\, nous l’espérons\, longue série d’événements sur notre territoire ! \nContact : l.delthel@frapna-aura.org \nRespect des consignes sanitaires d’usage\, masque obligatoire et respect des gestes de distanciation. \nNotre site : https://www.fne-aura.org/actualites/ardeche/imaginaires-tapis-rouge-a-lussas-le-27-novembre/ \nRéservations : https://www.helloasso.com/associations/federation-rhone-alpes-de-protection-de-la-nature-ardeche-frapna-ardeche/evenements/27-novembre-imaginaires-et-tapis-rouge \n  \n 
URL:https://www.petale07.org/event/imaginaires-et-tapis-rouge/
LOCATION:Lussas\, lussas\, 07170\, France
CATEGORIES:Evenementiel
ATTACH;FMTTYPE=image/jpeg:https://www.petale07.org/wp-content/uploads/2021/11/visuel-carte-postale-paysage-web.jpg
END:VEVENT
END:VCALENDAR