BEGIN:VCALENDAR
VERSION:2.0
PRODID:-//Pétale 07 - ECPv6.15.20//NONSGML v1.0//EN
CALSCALE:GREGORIAN
METHOD:PUBLISH
X-ORIGINAL-URL:https://www.petale07.org
X-WR-CALDESC:Évènements pour Pétale 07
REFRESH-INTERVAL;VALUE=DURATION:PT1H
X-Robots-Tag:noindex
X-PUBLISHED-TTL:PT1H
BEGIN:VTIMEZONE
TZID:Europe/Paris
BEGIN:DAYLIGHT
TZOFFSETFROM:+0100
TZOFFSETTO:+0200
TZNAME:CEST
DTSTART:20200329T010000
END:DAYLIGHT
BEGIN:STANDARD
TZOFFSETFROM:+0200
TZOFFSETTO:+0100
TZNAME:CET
DTSTART:20201025T010000
END:STANDARD
BEGIN:DAYLIGHT
TZOFFSETFROM:+0100
TZOFFSETTO:+0200
TZNAME:CEST
DTSTART:20210328T010000
END:DAYLIGHT
BEGIN:STANDARD
TZOFFSETFROM:+0200
TZOFFSETTO:+0100
TZNAME:CET
DTSTART:20211031T010000
END:STANDARD
BEGIN:DAYLIGHT
TZOFFSETFROM:+0100
TZOFFSETTO:+0200
TZNAME:CEST
DTSTART:20220327T010000
END:DAYLIGHT
BEGIN:STANDARD
TZOFFSETFROM:+0200
TZOFFSETTO:+0100
TZNAME:CET
DTSTART:20221030T010000
END:STANDARD
END:VTIMEZONE
BEGIN:VEVENT
DTSTART;TZID=Europe/Paris:20211113T140000
DTEND;TZID=Europe/Paris:20211114T170000
DTSTAMP:20260423T205944
CREATED:20211028T164820Z
LAST-MODIFIED:20220510T091828Z
UID:2619-1636812000-1636909200@www.petale07.org
SUMMARY:Faites de la laine les 13 et 14 novembre 2021 à Laurac-en-Vivarais
DESCRIPTION:L’équipe de Faites de la Laine organise les 13 et 14 novembre prochain un week-end festif autour d’artisans et d’éleveurs passionnés\, des démonstrations de tricot\, tissage\, teinture végétale\, constructions en terre et laine\, contes et histoires\, concerts\, projections\, guinguette et repas … Le tout à Laurac-en-Vivarais et à prix libre ! \n/!\ Réservation nécessaire pour le repas du dimanche midi « couscous du berger »\, avant le 08/11/2021; au : 06.50.05.15.85 \n 
URL:https://www.petale07.org/event/faites-de-la-laine-les-13-et-14-novembre-2021-a-laurac-en-vivarais/
CATEGORIES:Animation / atelier,Evenementiel
ATTACH;FMTTYPE=image/jpeg:https://www.petale07.org/wp-content/uploads/2021/10/Faites-de-la-laine_page-0001.jpg
ORGANIZER;CN="Camin'%C3%A2ne":MAILTO:contactcaminane@laposte.net
END:VEVENT
END:VCALENDAR