BEGIN:VCALENDAR
VERSION:2.0
PRODID:-//Pétale 07 - ECPv6.15.20//NONSGML v1.0//EN
CALSCALE:GREGORIAN
METHOD:PUBLISH
X-ORIGINAL-URL:https://www.petale07.org
X-WR-CALDESC:Évènements pour Pétale 07
REFRESH-INTERVAL;VALUE=DURATION:PT1H
X-Robots-Tag:noindex
X-PUBLISHED-TTL:PT1H
BEGIN:VTIMEZONE
TZID:Europe/Paris
BEGIN:DAYLIGHT
TZOFFSETFROM:+0100
TZOFFSETTO:+0200
TZNAME:CEST
DTSTART:20200329T010000
END:DAYLIGHT
BEGIN:STANDARD
TZOFFSETFROM:+0200
TZOFFSETTO:+0100
TZNAME:CET
DTSTART:20201025T010000
END:STANDARD
BEGIN:DAYLIGHT
TZOFFSETFROM:+0100
TZOFFSETTO:+0200
TZNAME:CEST
DTSTART:20210328T010000
END:DAYLIGHT
BEGIN:STANDARD
TZOFFSETFROM:+0200
TZOFFSETTO:+0100
TZNAME:CET
DTSTART:20211031T010000
END:STANDARD
BEGIN:DAYLIGHT
TZOFFSETFROM:+0100
TZOFFSETTO:+0200
TZNAME:CEST
DTSTART:20220327T010000
END:DAYLIGHT
BEGIN:STANDARD
TZOFFSETFROM:+0200
TZOFFSETTO:+0100
TZNAME:CET
DTSTART:20221030T010000
END:STANDARD
END:VTIMEZONE
BEGIN:VEVENT
DTSTART;VALUE=DATE:20211020
DTEND;VALUE=DATE:20211021
DTSTAMP:20260423T221616
CREATED:20210920T132436Z
LAST-MODIFIED:20220510T091828Z
UID:2432-1634688000-1634774399@www.petale07.org
SUMMARY:Forum de la coéducation 20/10/2021
DESCRIPTION:20 octobre à Jaujac \nForum de la Coéducation sur la thématique « éduquer dehors » \nLes animateur.trices jeunesse sont invités au Forum de la coéducation « l’extérieur\, un nouvel espace pour apprendre » qui aura lieu le 20 octobre de 13h30 à 17h à la Maison du PNR des Monts d’Ardèche à Jaujac.\nCe Forum est un temps fort de rencontres avec d’autres acteurs éducatifs (enseignants\, collectivités) pour encourager la coopération éducative sur les territoires. Nous vous invitons d’ailleurs à en parler à vos élus\, techniciens et enseignants de proximité et à venir ensemble au Forum. \nUn évènement dont Pétale 07 est partenaire\, avec une matinée consacrée aux intérêts éducatifs de faire « Classe Dehors » (réservée aux enseignants)\, et une après-midi ouverte aux élus des collectivités et aux animateurs jeunesse/ACM pour réfléchir ensemble à l’aménagement d’espaces éducatifs de proximité. \nVoir le programme\nS’inscrire\n 
URL:https://www.petale07.org/event/forum-de-la-coeducation/
LOCATION:Jaujac\, La Bastide 670 route de Largentière\, Jaujac\, 07380\, France
CATEGORIES:Animation / atelier,Evenementiel
ATTACH;FMTTYPE=image/jpeg:https://www.petale07.org/wp-content/uploads/2021/09/Affiche-Forum-Coeduc-20-octobre.pdf-Adobe-Acrobat-Reader-DC-32-bit.jpg
END:VEVENT
END:VCALENDAR