BEGIN:VCALENDAR
VERSION:2.0
PRODID:-//Pétale 07 - ECPv6.15.20//NONSGML v1.0//EN
CALSCALE:GREGORIAN
METHOD:PUBLISH
X-WR-CALNAME:Pétale 07
X-ORIGINAL-URL:https://www.petale07.org
X-WR-CALDESC:Évènements pour Pétale 07
REFRESH-INTERVAL;VALUE=DURATION:PT1H
X-Robots-Tag:noindex
X-PUBLISHED-TTL:PT1H
BEGIN:VTIMEZONE
TZID:Europe/Paris
BEGIN:DAYLIGHT
TZOFFSETFROM:+0100
TZOFFSETTO:+0200
TZNAME:CEST
DTSTART:20200329T010000
END:DAYLIGHT
BEGIN:STANDARD
TZOFFSETFROM:+0200
TZOFFSETTO:+0100
TZNAME:CET
DTSTART:20201025T010000
END:STANDARD
BEGIN:DAYLIGHT
TZOFFSETFROM:+0100
TZOFFSETTO:+0200
TZNAME:CEST
DTSTART:20210328T010000
END:DAYLIGHT
BEGIN:STANDARD
TZOFFSETFROM:+0200
TZOFFSETTO:+0100
TZNAME:CET
DTSTART:20211031T010000
END:STANDARD
BEGIN:DAYLIGHT
TZOFFSETFROM:+0100
TZOFFSETTO:+0200
TZNAME:CEST
DTSTART:20220327T010000
END:DAYLIGHT
BEGIN:STANDARD
TZOFFSETFROM:+0200
TZOFFSETTO:+0100
TZNAME:CET
DTSTART:20221030T010000
END:STANDARD
END:VTIMEZONE
BEGIN:VEVENT
DTSTART;TZID=Europe/Paris:20211015T090000
DTEND;TZID=Europe/Paris:20211015T163000
DTSTAMP:20260423T221626
CREATED:20210920T131213Z
LAST-MODIFIED:20220510T091828Z
UID:2425-1634288400-1634315400@www.petale07.org
SUMMARY:Grandir en Ardèche : des petits pas vers la transition
DESCRIPTION:Journée Départementale « Petite enfance et enfance en transition » \n« Grandir en Ardèche : des petits pas vers la transition »\n15 octobre 2021 de 9h00 à 16h30 \nSalle des fêtes de La Voulte sur Rhône (rue René Cassin) \nLes partenaires de la Commission Départementale des Services aux Familles organisent\, en lien avec les acteurs de l’environnement\, une journée départementale « Petite enfance & enfance en transition »\, avec au programme une conférence autour du lien entre développement de l’enfant\, nature et santé\, des ateliers pratiques et un forum avec différents stands d’échanges & d’informations animés par les acteurs de l’environnement. \nInvitation & programme\nInscription\n  \n 
URL:https://www.petale07.org/event/grandir-en-ardeche-des-petits-pas-vers-la-transition/
LOCATION:La Voulte sur Rhône\, La Voulte sur Rhône\, France
CATEGORIES:Animation / atelier,Evenementiel,Rencontre / entretien
ATTACH;FMTTYPE=image/jpeg:https://www.petale07.org/wp-content/uploads/2021/09/Invitation-Journee-departementale-Petite-enfance-et-enfance-en-transition-2.pdf-Adobe-Acrobat-Reader-DC-32-bit.jpg
END:VEVENT
END:VCALENDAR