BEGIN:VCALENDAR
VERSION:2.0
PRODID:-//Pétale 07 - ECPv6.15.20//NONSGML v1.0//EN
CALSCALE:GREGORIAN
METHOD:PUBLISH
X-ORIGINAL-URL:https://www.petale07.org
X-WR-CALDESC:Évènements pour Pétale 07
REFRESH-INTERVAL;VALUE=DURATION:PT1H
X-Robots-Tag:noindex
X-PUBLISHED-TTL:PT1H
BEGIN:VTIMEZONE
TZID:Europe/Paris
BEGIN:DAYLIGHT
TZOFFSETFROM:+0100
TZOFFSETTO:+0200
TZNAME:CEST
DTSTART:20200329T010000
END:DAYLIGHT
BEGIN:STANDARD
TZOFFSETFROM:+0200
TZOFFSETTO:+0100
TZNAME:CET
DTSTART:20201025T010000
END:STANDARD
BEGIN:DAYLIGHT
TZOFFSETFROM:+0100
TZOFFSETTO:+0200
TZNAME:CEST
DTSTART:20210328T010000
END:DAYLIGHT
BEGIN:STANDARD
TZOFFSETFROM:+0200
TZOFFSETTO:+0100
TZNAME:CET
DTSTART:20211031T010000
END:STANDARD
BEGIN:DAYLIGHT
TZOFFSETFROM:+0100
TZOFFSETTO:+0200
TZNAME:CEST
DTSTART:20220327T010000
END:DAYLIGHT
BEGIN:STANDARD
TZOFFSETFROM:+0200
TZOFFSETTO:+0100
TZNAME:CET
DTSTART:20221030T010000
END:STANDARD
END:VTIMEZONE
BEGIN:VEVENT
DTSTART;VALUE=DATE:20211002
DTEND;VALUE=DATE:20211003
DTSTAMP:20260423T221526
CREATED:20210701T153910Z
LAST-MODIFIED:20220510T091828Z
UID:2324-1633132800-1633219199@www.petale07.org
SUMMARY:Biodiversité en fête ! Gorges de l’Ardèche
DESCRIPTION:Biodiversité en fête ! Gorges de l’Ardèche  \nBalades accompagnées\, ateliers\, initiations\,… Le Syndicat de gestion des Gorges de l’Ardèche mobilise des acteurs EEDD pour son rendez-vous annuel de découverte et valorisation du patrimoine des Gorges. Une journée d’animations et d’activités grand public pour découvrir l’extraordinaire biodiversité de la réserve naturelle des Gorges de l’Ardèche. \nSamedi 2 octobre 2021 sur plusieurs sites de la Réserve naturelle des Gorges de l’Ardèche \nProgramme et infos\nPétale 07 sera présent sur l’évènement au Village des partenaires et producteurs\, Pont d’Arc Belvédère\, n’hésitez pas à venir nous rencontrer.
URL:https://www.petale07.org/event/fete-de-la-biodiversite-des-gorges/
LOCATION:Réserve naturalle nationale des Gorges de l’Ardèche\, Saint remèze
CATEGORIES:Animation / atelier,Evenementiel,Sortie / balade
ATTACH;FMTTYPE=image/jpeg:https://www.petale07.org/wp-content/uploads/2021/07/depliant-2021-biodiversite-en-fete.jpg
END:VEVENT
END:VCALENDAR