BEGIN:VCALENDAR
VERSION:2.0
PRODID:-//Pétale 07 - ECPv6.15.20//NONSGML v1.0//EN
CALSCALE:GREGORIAN
METHOD:PUBLISH
X-ORIGINAL-URL:https://www.petale07.org
X-WR-CALDESC:Évènements pour Pétale 07
REFRESH-INTERVAL;VALUE=DURATION:PT1H
X-Robots-Tag:noindex
X-PUBLISHED-TTL:PT1H
BEGIN:VTIMEZONE
TZID:Europe/Paris
BEGIN:DAYLIGHT
TZOFFSETFROM:+0100
TZOFFSETTO:+0200
TZNAME:CEST
DTSTART:20200329T010000
END:DAYLIGHT
BEGIN:STANDARD
TZOFFSETFROM:+0200
TZOFFSETTO:+0100
TZNAME:CET
DTSTART:20201025T010000
END:STANDARD
BEGIN:DAYLIGHT
TZOFFSETFROM:+0100
TZOFFSETTO:+0200
TZNAME:CEST
DTSTART:20210328T010000
END:DAYLIGHT
BEGIN:STANDARD
TZOFFSETFROM:+0200
TZOFFSETTO:+0100
TZNAME:CET
DTSTART:20211031T010000
END:STANDARD
BEGIN:DAYLIGHT
TZOFFSETFROM:+0100
TZOFFSETTO:+0200
TZNAME:CEST
DTSTART:20220327T010000
END:DAYLIGHT
BEGIN:STANDARD
TZOFFSETFROM:+0200
TZOFFSETTO:+0100
TZNAME:CET
DTSTART:20221030T010000
END:STANDARD
END:VTIMEZONE
BEGIN:VEVENT
DTSTART;TZID=Europe/Paris:20210926T100000
DTEND;TZID=Europe/Paris:20210926T170000
DTSTAMP:20260423T234532
CREATED:20210921T141526Z
LAST-MODIFIED:20220510T091829Z
UID:2490-1632650400-1632675600@www.petale07.org
SUMMARY:Dimanche 26 septembre - Journée Ardèche Nature - ENS DE LA BOISSINE
DESCRIPTION:Dimanche 26 septembre 2021\, la nature vous donne rendez-vous sur le domaine départemental de La Boissine\, à La Voulte-surRhône / Rompon. Sur les hauteurs de la vallée du Rhône\, à quelques pas du centre de La Voulte-sur-Rhône\, le domaine de la Boissine s’étend sur quelque 35 ha. Cet écrin de verdure qui abrite un gisement fossilifère mondialement connu\, a été exploité pour ses mines de fer au 19e siècle et a aussi connu un passé agricole. \nAcquis par le Département de l’Ardèche en 2005\, il s’ouvre aujourd’hui au grand public pour des activités de découvertes des espaces naturels sensibles. Au cœur de la Maison de site\, ou directement dans la nature\, des expositions inédites et de nombreux ateliers vous sont proposés pour découvrir les différentes facettes d’un environnement… à consommer sans modération. \nTélécharger la plaquette
URL:https://www.petale07.org/event/dimanche-26-septembre-journee-ardeche-nature-ens-de-la-boissine/
LOCATION:La Voulte sur Rhône\, La Voulte sur Rhône\, France
CATEGORIES:Animation / atelier,Evenementiel,Sortie / balade
ATTACH;FMTTYPE=image/png:https://www.petale07.org/wp-content/uploads/2021/09/PAGE-1.png
ORGANIZER;CN="Mus%C3%A9um de l'Ard%C3%A8che":MAILTO:contact@museum-ardeche.fr
END:VEVENT
END:VCALENDAR