BEGIN:VCALENDAR
VERSION:2.0
PRODID:-//Pétale 07 - ECPv6.15.20//NONSGML v1.0//EN
CALSCALE:GREGORIAN
METHOD:PUBLISH
X-ORIGINAL-URL:https://www.petale07.org
X-WR-CALDESC:Évènements pour Pétale 07
REFRESH-INTERVAL;VALUE=DURATION:PT1H
X-Robots-Tag:noindex
X-PUBLISHED-TTL:PT1H
BEGIN:VTIMEZONE
TZID:Europe/Paris
BEGIN:DAYLIGHT
TZOFFSETFROM:+0100
TZOFFSETTO:+0200
TZNAME:CEST
DTSTART:20200329T010000
END:DAYLIGHT
BEGIN:STANDARD
TZOFFSETFROM:+0200
TZOFFSETTO:+0100
TZNAME:CET
DTSTART:20201025T010000
END:STANDARD
BEGIN:DAYLIGHT
TZOFFSETFROM:+0100
TZOFFSETTO:+0200
TZNAME:CEST
DTSTART:20210328T010000
END:DAYLIGHT
BEGIN:STANDARD
TZOFFSETFROM:+0200
TZOFFSETTO:+0100
TZNAME:CET
DTSTART:20211031T010000
END:STANDARD
BEGIN:DAYLIGHT
TZOFFSETFROM:+0100
TZOFFSETTO:+0200
TZNAME:CEST
DTSTART:20220327T010000
END:DAYLIGHT
BEGIN:STANDARD
TZOFFSETFROM:+0200
TZOFFSETTO:+0100
TZNAME:CET
DTSTART:20221030T010000
END:STANDARD
END:VTIMEZONE
BEGIN:VEVENT
DTSTART;TZID=Europe/Paris:20210617T170000
DTEND;TZID=Europe/Paris:20210617T203000
DTSTAMP:20260424T034610
CREATED:20210603T163339Z
LAST-MODIFIED:20220510T091830Z
UID:2155-1623949200-1623961800@www.petale07.org
SUMMARY:Visite guidée des jardins de T&H + atelier cuisine et repas
DESCRIPTION:Rendez-vous le jeudi 17 juin à 17h pour une visite guidée des jardins pédagogiques en agroécologie de Terre & Humanisme ! \nLa visite\, à prix libre\, dure environ 1h30\, et sera suivie d’un atelier d’initiation sur les graines et légumineuses\, puis d’un repas à l’assiette\, cuisiné par notre cuistot/formateur Robert.\nInscription à l’atelier d’initiation et au repas pour 9€. \nInformations et inscriptions : 04 75 36 64 01 ou infos@terre-humanisme.org \n \n 
URL:https://www.petale07.org/event/visite-guidee-des-jardins-de-th-atelier-cuisine-et-repas/
LOCATION:Mas de Beaulieu\, 07230 Lablachère\, 471 chemin du Mas de Beaulieu\, Lablachère\, 07230\, France
CATEGORIES:Animation / atelier,Evenementiel
ATTACH;FMTTYPE=image/jpeg:https://www.petale07.org/wp-content/uploads/2021/06/Affiche-17juin.jpeg
ORGANIZER;CN="Terre &amp%3B Humanisme":MAILTO:infos@terre-humanisme.org
END:VEVENT
END:VCALENDAR