BEGIN:VCALENDAR
VERSION:2.0
PRODID:-//Pétale 07 - ECPv6.15.20//NONSGML v1.0//EN
CALSCALE:GREGORIAN
METHOD:PUBLISH
X-ORIGINAL-URL:https://www.petale07.org
X-WR-CALDESC:Évènements pour Pétale 07
REFRESH-INTERVAL;VALUE=DURATION:PT1H
X-Robots-Tag:noindex
X-PUBLISHED-TTL:PT1H
BEGIN:VTIMEZONE
TZID:Europe/Paris
BEGIN:DAYLIGHT
TZOFFSETFROM:+0100
TZOFFSETTO:+0200
TZNAME:CEST
DTSTART:20230326T010000
END:DAYLIGHT
BEGIN:STANDARD
TZOFFSETFROM:+0200
TZOFFSETTO:+0100
TZNAME:CET
DTSTART:20231029T010000
END:STANDARD
BEGIN:DAYLIGHT
TZOFFSETFROM:+0100
TZOFFSETTO:+0200
TZNAME:CEST
DTSTART:20240331T010000
END:DAYLIGHT
BEGIN:STANDARD
TZOFFSETFROM:+0200
TZOFFSETTO:+0100
TZNAME:CET
DTSTART:20241027T010000
END:STANDARD
BEGIN:DAYLIGHT
TZOFFSETFROM:+0100
TZOFFSETTO:+0200
TZNAME:CEST
DTSTART:20250330T010000
END:DAYLIGHT
BEGIN:STANDARD
TZOFFSETFROM:+0200
TZOFFSETTO:+0100
TZNAME:CET
DTSTART:20251026T010000
END:STANDARD
END:VTIMEZONE
BEGIN:VEVENT
DTSTART;VALUE=DATE:20241106
DTEND;VALUE=DATE:20241108
DTSTAMP:20260421T173214
CREATED:20241009T145317Z
LAST-MODIFIED:20241011T121309Z
UID:8776-1730851200-1731023999@www.petale07.org
SUMMARY:Forum d’échange de ressources et de pratiques professionnelles : Nourrir\, Partager\, Grandir
DESCRIPTION:Nourrir Partager Grandir programme 2024 \nPour cette troisième édition\, Nourrir Partager & Grandir prend des allures de forum en accueillant de nombreuses structures sur la grande place des questions de l’alimentation à l’échelle territoriale.\nDeux jours de rencontres hors-normes\, organisés de façon à ce que chacun puisse échanger en direct avec un maximum des professionnels présents.\nObjectifs : clarifier la complexité du sujet ; dresser un panorama des acteurs ; comprendre tous les enjeux ; générer des partenariats ; offrir des ressources à vos projets \nPétale sera présent avec James Pédron et Yann Sourbier qui animent plusieurs ateliers. Il este de la place pour covoiturer !
URL:https://www.petale07.org/event/forum-dechange-de-ressources-et-de-pratiques-professionnelles-nourrir-partager-grandir/
LOCATION:Le Loubatas\, Écogîte du Loubatas\, Chem. du Loubatas\,\, Peyrolles-en-Provence -\, france\, 13860
CATEGORIES:Evenementiel
ORGANIZER;CN="Metropole Aix-Marseille":MAILTO:contact.freedd@ampmetropole.fr
END:VEVENT
BEGIN:VEVENT
DTSTART;TZID=Europe/Paris:20241109T100000
DTEND;TZID=Europe/Paris:20241110T180000
DTSTAMP:20260421T173214
CREATED:20241026T153524Z
LAST-MODIFIED:20241114T102114Z
UID:8845-1731146400-1731261600@www.petale07.org
SUMMARY:Tiques\, moustiques tigres... comment prévenir les risques ?
DESCRIPTION:Dans le cadre des Castagnades de Joannas\, Mi-Syrphe Mi-Raisin\, en partenariat avec l’ARS\, l’URCPIE et le collectif Pétale 07\, proposera une expo sur les moustiques tigres et les tiques sur les 2 jours. \nLe dimanche 10 novembre\, un atelier d’observation à la loupe binoculaire de tiques et de moustiques à différents stades de développement et un atelier sur l’utilisation du tire-tiques seront animés par Mi-Syrphe Mi-Raisin. \nAffichTikMoustikCastagnades24
URL:https://www.petale07.org/event/tiques-moustiques-tigres-comment-prevenir-les-risques/
LOCATION:Joannas\, Joannas\, 07110\, France
CATEGORIES:Animation / atelier,Evenementiel,Groupe ESE
ORGANIZER;CN="Association Bogues et Rustines%2C mairie de Joannas":MAILTO:boguesetrustines@gmail.com
END:VEVENT
BEGIN:VEVENT
DTSTART;TZID=Europe/Paris:20241130T100000
DTEND;TZID=Europe/Paris:20241130T120000
DTSTAMP:20260421T173214
CREATED:20241121T125803Z
LAST-MODIFIED:20241121T125803Z
UID:8882-1732960800-1732968000@www.petale07.org
SUMMARY:L'A.Grande fête des lutins
DESCRIPTION:Pour sa 6ème AG\, Mésange&Libellule vous invite pour une folle aventure dans les bois\, suivi d’un pique-nique partagé dans le pré ensoleillé. \n\n\n Boisson chaude offerte\n Rendez-vous au p’tit Bois à Saint Sernin – repli en salle au 15 chemin de l’Ardèche si la météo n’est pas favorable\nPour s’inscrire (ou donner procuration) c’est par ici : https://forms.gle/9zaq9SX2bhRHnmUG8\nVenez en famille !
URL:https://www.petale07.org/event/la-grande-fete-des-lutins/
LOCATION:P’tit bois de Saint-Sernin (Mésange & Libellule)\, chemin du Moulinas\, Saint-Sernin\, Sélectionnez un département / état\, 07200\, France
CATEGORIES:Evenementiel
ATTACH;FMTTYPE=image/png:https://www.petale07.org/wp-content/uploads/2024/11/Invitation-AG-fete-des-lutins.png
ORGANIZER;CN="M%C3%A9sange et Libellule":MAILTO:mesangeetlibellule@gmail.com
END:VEVENT
END:VCALENDAR