BEGIN:VCALENDAR
VERSION:2.0
PRODID:-//Pétale 07 - ECPv6.15.20//NONSGML v1.0//EN
CALSCALE:GREGORIAN
METHOD:PUBLISH
X-WR-CALNAME:Pétale 07
X-ORIGINAL-URL:https://www.petale07.org
X-WR-CALDESC:Évènements pour Pétale 07
REFRESH-INTERVAL;VALUE=DURATION:PT1H
X-Robots-Tag:noindex
X-PUBLISHED-TTL:PT1H
BEGIN:VTIMEZONE
TZID:Europe/Paris
BEGIN:DAYLIGHT
TZOFFSETFROM:+0100
TZOFFSETTO:+0200
TZNAME:CEST
DTSTART:20230326T010000
END:DAYLIGHT
BEGIN:STANDARD
TZOFFSETFROM:+0200
TZOFFSETTO:+0100
TZNAME:CET
DTSTART:20231029T010000
END:STANDARD
BEGIN:DAYLIGHT
TZOFFSETFROM:+0100
TZOFFSETTO:+0200
TZNAME:CEST
DTSTART:20240331T010000
END:DAYLIGHT
BEGIN:STANDARD
TZOFFSETFROM:+0200
TZOFFSETTO:+0100
TZNAME:CET
DTSTART:20241027T010000
END:STANDARD
BEGIN:DAYLIGHT
TZOFFSETFROM:+0100
TZOFFSETTO:+0200
TZNAME:CEST
DTSTART:20250330T010000
END:DAYLIGHT
BEGIN:STANDARD
TZOFFSETFROM:+0200
TZOFFSETTO:+0100
TZNAME:CET
DTSTART:20251026T010000
END:STANDARD
END:VTIMEZONE
BEGIN:VEVENT
DTSTART;TZID=Europe/Paris:20240306T140000
DTEND;TZID=Europe/Paris:20240306T170000
DTSTAMP:20260422T052349
CREATED:20240214T115205Z
LAST-MODIFIED:20240215T083526Z
UID:7781-1709733600-1709744400@www.petale07.org
SUMMARY:6 mars à Jaujac | École dehors : pratiques\, postures\, relations partenariales
DESCRIPTION:École dehors : pratiques\, postures\, relations partenariales\nPrésentation de deux ans de projets accompagnés et des résultats de la recherche-action en Ardèche\nmercredi 6 mars 2024 de 14h à 17h30\, à la Maison du Parc à Jaujac\nLe collectif Pétale 07 et le Parc des Monts d’Ardèche vous invitent à venir profiter des témoignages d’enseignants et d’éducateurs nature\, engagés depuis plus de deux ans\, dans la pratique de l’école dehors en l’Ardèche. \nLes résultats de la recherche-action « Éduquer dehors en Ardèche »\, menée avec Marie-Laure Girault du FRENE (réseau national d’éducation à la nature et à l’environnement) seront présentés et permettront un temps d’échange avec les membres du groupe de travail et les partenaires institutionnels qui ont suivi ce projet\, financé par des fonds européens Leader. \nCette rencontre est ouverte à tous\, parents\, enseignants\, animateurs\, éducateurs nature\, agents et élus des communes et communautés de communes\, engagé.es dans cette pratique de « l’éducation dehors»\, ou souhaitant s’y engager à l’avenir\, pour accompagner l’innovation pédagogique sur l’Ardèche. \nDes ressources pour savoir + sur le programme du 6 mars et sur les accompagnements à « l’école dehors » \nhttps://www.petale07.org/collectif/groupes-de-travail/eduquer-dehors/ \nhttps://www.parc-monts-ardeche.fr/les-actions-du-parc/education-sensibilisation/lecole-dehors/ \nVous pouvez aussi contacter directement : ejacquiauchamska@pnrma.fr ou le collectif Pétale 07 contact@petale07.org \n>> Pour vous inscrire à la journée\, cliquez sur le bouton ci-dessous : \nS’INSCRIRE EN LIGNE
URL:https://www.petale07.org/event/ecole-dehors-pratiques-postures-relations-partenariales-presentation-de-deux-ans-de-projets-accompagnes-et-des-resultats-de-la-recherche-action-en-ardeche-mercredi-6-mars-de-14h-a-17h30-a-la-mai/
LOCATION:Maison du PNR\, Domaine de Rochemure\, Jaujac\, 07380\, France
CATEGORIES:Evenementiel,Groupe Eduquer dehors,Vie du collectif
ATTACH;FMTTYPE=image/png:https://www.petale07.org/wp-content/uploads/2024/02/invitation-6-mars-def1.png
END:VEVENT
BEGIN:VEVENT
DTSTART;TZID=Europe/Paris:20240315T170000
DTEND;TZID=Europe/Paris:20240315T190000
DTSTAMP:20260422T052349
CREATED:20240220T100654Z
LAST-MODIFIED:20240227T143355Z
UID:7805-1710522000-1710529200@www.petale07.org
SUMMARY:Table ronde sur l’accompagnement vers une alimentation durable
DESCRIPTION:Les acteurs du Mouvement des Cuisines Nourricières (MCN) interviennent partout en France pour accompagner les territoires et les acteurs dans les changements de pratiques en restauration collective. Vous êtes nombreux à avoir dégusté et découvert leurs pratiques culinaires et leur travail d’accompagnement vers une alimentation durable  lors des 3 derniers forums de l’alimentation. \nA l’occasion de son assemblée générale\, le MCN\, le centre de formation du Mat 07\, le collectif Pétale 07 et le Conseil local de l’alimentation L’Assiette et le Territoire ont le plaisir de vous convier à une soirée d’échanges autour des Cuisines Nourricières. \nRendez-vous le vendredi 15 mars de 17h à 19h à l’Auditorium au domaine du Pradel à Mirabel. \nCet échange sera particulièrement stimulant sur le thème des méthodes d’accompagnement des acteurs vers une alimentation durable et saine. Une dégustation et un pot de l’amitié termineront ce moment convivial. \nAu programme\, les témoignages de 3 membres actifs du MCN  : \nSylvie Keller du Loubatas : Comment accompagner des Lycées ou des cantines municipales vers la mise en place de leur projet alimentaire de référence comprenant l’évolution des pratiques en cuisine. \nSophie Imbert de la CinéFabrique : Comment éduquer et impliquer l’ensemble des élèves d’une école de cinéma dans la fabrication des repas de leur cantine scolaire.  \nYann Sourbier du Mat 07  présentera le travail réalisé ces deux dernières années avec le soutient du programme Leader Ardèche³ pour mettre en place\, animer et former les acteurs des tiers lieux nourriciers ardéchois et les cuisiniers de collectivité à de nouvelles pratiques en restauration collective. \nNous vous prions de bien vouloir remplir le formulaire d’inscription avant le vendredi  8 mars ICI  \nAu plaisir de vous retrouver à cette occasion ! \nKarine Nunes (pour le CLA)\, Marie Simon\, James Pedron et Yann Sourbier (pour Pétale 07\, Le Mat 07 et MCN)
URL:https://www.petale07.org/event/table-ronde-sur-laccompagnement-des-territoires-vers-une-alimentation-durable-avec-le-mouvement-national-des-cuisines-nourricieres/
LOCATION:Domaine du Pradel\, Mirabel\, 07170\, France
CATEGORIES:Evenementiel,Groupe agriculture alimentation,Groupe ESE
ATTACH;FMTTYPE=image/jpeg:https://www.petale07.org/wp-content/uploads/2024/02/Yellow-Black-Modern-Bold-Bachelor-Save-the-Date-Invitation.jpg
END:VEVENT
BEGIN:VEVENT
DTSTART;VALUE=DATE:20240321
DTEND;VALUE=DATE:20240707
DTSTAMP:20260422T052349
CREATED:20240405T160037Z
LAST-MODIFIED:20240405T161652Z
UID:8051-1710979200-1720310399@www.petale07.org
SUMMARY:Animations gratuites eau et rivières : programme printemps 2024
DESCRIPTION:Ateliers « mon potager économe en eau »\, balades « découverte de la rivière »\, conférences « eau et changement climatique »\, stands « j’économise l’eau à la maison »\, visites\, expositions… \nPour la deuxième année consécutive\, de fin mars à début juillet 2024\, l’EPTB Ardèche et ses partenaires sont heureux de vous proposer une vingtaine de nouveaux rendez-vous gratuits\, ludiques et familiaux. \nLancé officiellement le 22 mars\, à l’occasion de la Journée Mondiale de l’Eau\, le programme de cette année a déjà connu un beau prélude avec l’accueil\, à Vogüé\, de la magnifique Marche pour la Planète organisée par les étudiants du Lycée Olivier de Serres d’Aubenas\, et notre participation aux Journées de l’eau du collectif citoyen du pays des Vans qui se sont déroulées aux Assions. \n\n\n\nZoom sur les prochains rendez-vous :\n\n\n\n\nEN AVRIL…\n\n\n\n\n\nSamedi 20 avril – 14h \nBALADE – Découverte de la Tortue Cistude d’Europe\nAccompagnée par l’association Ardèche randonnées et l’EPTB Ardèche\nChauzon \n \nDétails\n\n\nSamedi 27 avril – 14h \nBALADE – Découverte de la rivière Beaume\nAccompagnée par l’association Ardèche randonnées\nSanilhac / Beaumont \n \nDétails\n\n\n\n\n\n\nEN MAI…\n\n\n\n\nSamedi 4 mai – 10h/17h\nSTAND – J’économise l’eau à la maison\nAnimé par l’ALEC 07 – À l’occasion de la Fête des 30 ans des Bateliers de l’Ardèche\nRuoms\nEntrée libre \nlien vers site de l’évènement à venir\n\n\nSamedi 4 mai – 14h\nBALADE – Dans la garrigue\, à la découverte des milieux secs\nAccompagnée par l’association Le Mat\nBalazuc\nDétails\n\n\nSamedi 4 mai – 17h\nBALADE NOCTURNE\, FILM et ATELIER – Découverte des chauves-souris\nAccompagnée par la Ligue de Protection des Oiseaux Auvergne Rhône Alpes\nBalazuc\nDétails\n\n\nDimanche 12 mai – 13h45\nBALADE – Découverte de la rivière Ardèche\nAccompagnée par l’association Clapas nature roche et paysages\nThueyts / Barnas\nDétails\n\n\nMercredi 15 mai – 14h\nATELIER – Mon potager économe en eau\nAnimé par l’association V.I.E.\nSaint-Didier-sous-Aubenas ou Lachapelle-sous-Aubenas (lieu à confirmer)\nDétails\n\n\n\n\net bien d’autres dates à retrouver sur le programme complet !\n \n  \n  \nN’hésitez pas à participer et à partager l’info autour de vous !\nTéléchargez le dépliant programme (pdf) – Téléchargez l’affiche (pdf) \n  \nOpération menée avec le soutien financier de l’Agence de l’Eau Rhône Méditerranée Corse\, de la Région Auvergne Rhône-Alpes et du Département de l’Ardèche.
URL:https://www.petale07.org/event/animations-gratuites-eau-et-rivieres-programme-printemps-2024/
LOCATION:Bassin Versant de l’Ardèche
CATEGORIES:Animation / atelier,Evenementiel,Sortie / balade
ATTACH;FMTTYPE=image/png:https://www.petale07.org/wp-content/uploads/2024/04/loutre_atelier2@2x.png
ORGANIZER;CN="Etablissement Public Territorial du bassin versant de l'Ad%C3%A8che":MAILTO:communication@ardeche-eau.fr
END:VEVENT
END:VCALENDAR