BEGIN:VCALENDAR
VERSION:2.0
PRODID:-//Pétale 07 - ECPv6.15.20//NONSGML v1.0//EN
CALSCALE:GREGORIAN
METHOD:PUBLISH
X-ORIGINAL-URL:https://www.petale07.org
X-WR-CALDESC:Évènements pour Pétale 07
REFRESH-INTERVAL;VALUE=DURATION:PT1H
X-Robots-Tag:noindex
X-PUBLISHED-TTL:PT1H
BEGIN:VTIMEZONE
TZID:Europe/Paris
BEGIN:DAYLIGHT
TZOFFSETFROM:+0100
TZOFFSETTO:+0200
TZNAME:CEST
DTSTART:20220327T010000
END:DAYLIGHT
BEGIN:STANDARD
TZOFFSETFROM:+0200
TZOFFSETTO:+0100
TZNAME:CET
DTSTART:20221030T010000
END:STANDARD
BEGIN:DAYLIGHT
TZOFFSETFROM:+0100
TZOFFSETTO:+0200
TZNAME:CEST
DTSTART:20230326T010000
END:DAYLIGHT
BEGIN:STANDARD
TZOFFSETFROM:+0200
TZOFFSETTO:+0100
TZNAME:CET
DTSTART:20231029T010000
END:STANDARD
BEGIN:DAYLIGHT
TZOFFSETFROM:+0100
TZOFFSETTO:+0200
TZNAME:CEST
DTSTART:20240331T010000
END:DAYLIGHT
BEGIN:STANDARD
TZOFFSETFROM:+0200
TZOFFSETTO:+0100
TZNAME:CET
DTSTART:20241027T010000
END:STANDARD
END:VTIMEZONE
BEGIN:VEVENT
DTSTART;TZID=Europe/Paris:20231107T090000
DTEND;TZID=Europe/Paris:20231107T163000
DTSTAMP:20260422T103902
CREATED:20231016T114156Z
LAST-MODIFIED:20231016T142225Z
UID:7407-1699347600-1699374600@www.petale07.org
SUMMARY:Échange de pratiques
DESCRIPTION:Pour ce 3ème échange de pratiques\, nous vous invitons à plonger dans une nouvelle thématique : la jeunesse et les questions de genre. \nComment adapter nos postures éducatives aux questions que posent le corps et le genre ? \nComment les questions de genre impactent nos comportements\, les activités que l’on propose et la manière dont on s’adresse aux jeunes ? \nC’est donc parti pour l’échange de pratique #3 qui s’articulera autour d’une matinée sous forme de conférence débat et une après-midi d’ateliers illustrant la thématique\, portée par le réseau éducation égalitaire. \nMardi 7 novembre au Lycée professionnel Marius Bouvier (69 Rte de Lamastre\, 07300 Tournon-sur-Rhône) \nLes questions de genre chez les jeunes\, prise de hauteur et possibilités d’accompagnement une journée co-organisée entre le réseau Jeunesse 07 et le réseau éducation égalitaire \nVoir le programme complet. \nInscriptions obligatoires ici. \nContacts : \nInformations matinée : Clara BLANG – 06 60 15 01 73 – cblang@ardeche.fr\nInformations après-midi : à l’attention de Marine ARRES – cidff07@cidff07.fr
URL:https://www.petale07.org/event/echange-de-pratiques/
LOCATION:Lycée proffessionel Marius Bouvier\, 69 Rte de Lamastre\, Tournon-sur-Rhône\, 07300
CATEGORIES:Evenementiel
ATTACH;FMTTYPE=image/png:https://www.petale07.org/wp-content/uploads/2023/10/AF1QipN0TpTscoXQoe0PWEcLNhB782c4XWECjxhdEZo5w960-h239.png
END:VEVENT
BEGIN:VEVENT
DTSTART;TZID=Europe/Paris:20231117T084500
DTEND;TZID=Europe/Paris:20231117T124500
DTSTAMP:20260422T103902
CREATED:20230918T104600Z
LAST-MODIFIED:20240110T122521Z
UID:7230-1700210700-1700225100@www.petale07.org
SUMMARY:Séminaire "Gérer les biodéchets localement sur vos territoires"
DESCRIPTION:A destination des élus et agents des collectivités à compétence « déchets » de l’Ardèche\, venez échanger autour des solutions existantes en matière de gestion de proximité des biodéchets (réglementation\, complémentarité\, technicité) et leur contribution à l’objectif réglementaire d’obligation du tri à la source des biodéchets d’ici 2023. Lors d’ateliers en groupe\, vous aurez l’occasion de questionner d’autres collectivités sur les solutions mises en place. \nLe plan régional de prévention et gestion des déchets adopté fin 2019\, désormais intégré au schéma régional d’aménagement\, de développement durable et d’égalité des territoires (SRADDET)\, fixe des objectifs ambitieux sur la prévention et la valorisation des biodéchets et des déchets verts. Le tri à la source des biodéchets est une priorité partagée par la Région et par l’ADEME. Pour les territoires\, c’est un levier essentiel qui permet de limiter les quantités de déchets à la charge des collectivités et de développer la gestion et le traitement in situ en favorisant un retour au sol de la matière organique.  \nLa Région Auvergne-Rhône-Alpes et l’ADEME ont le plaisir de vous inviter au prochain séminaire co-organisé par le Réseau Compost Citoyen Auvergne Rhône Alpes (RCC AURA) et le collectif Pétale 07 (groupe Compost) : \n« Gérer les biodéchets localement sur vos territoires » \nVendredi 17 novembre 2023 au Lycée agricole d’Aubenas (chemin de Saint-Martin) \nVous trouverez le préprogramme ici. \nLes modalités d’inscription et les contacts directement ici  \n 
URL:https://www.petale07.org/event/seminaire-gestion-des-biodechets/
LOCATION:Lycée agricole Olivier de Serres\, Aubenas\, 07200\, France
CATEGORIES:Evenementiel
ATTACH;FMTTYPE=image/png:https://www.petale07.org/wp-content/uploads/2023/09/Seminaire-biodechets.png
END:VEVENT
END:VCALENDAR