BEGIN:VCALENDAR
VERSION:2.0
PRODID:-//Pétale 07 - ECPv6.15.20//NONSGML v1.0//EN
CALSCALE:GREGORIAN
METHOD:PUBLISH
X-ORIGINAL-URL:https://www.petale07.org
X-WR-CALDESC:Évènements pour Pétale 07
REFRESH-INTERVAL;VALUE=DURATION:PT1H
X-Robots-Tag:noindex
X-PUBLISHED-TTL:PT1H
BEGIN:VTIMEZONE
TZID:Europe/Paris
BEGIN:DAYLIGHT
TZOFFSETFROM:+0100
TZOFFSETTO:+0200
TZNAME:CEST
DTSTART:20220327T010000
END:DAYLIGHT
BEGIN:STANDARD
TZOFFSETFROM:+0200
TZOFFSETTO:+0100
TZNAME:CET
DTSTART:20221030T010000
END:STANDARD
BEGIN:DAYLIGHT
TZOFFSETFROM:+0100
TZOFFSETTO:+0200
TZNAME:CEST
DTSTART:20230326T010000
END:DAYLIGHT
BEGIN:STANDARD
TZOFFSETFROM:+0200
TZOFFSETTO:+0100
TZNAME:CET
DTSTART:20231029T010000
END:STANDARD
BEGIN:DAYLIGHT
TZOFFSETFROM:+0100
TZOFFSETTO:+0200
TZNAME:CEST
DTSTART:20240331T010000
END:DAYLIGHT
BEGIN:STANDARD
TZOFFSETFROM:+0200
TZOFFSETTO:+0100
TZNAME:CET
DTSTART:20241027T010000
END:STANDARD
END:VTIMEZONE
BEGIN:VEVENT
DTSTART;TZID=Europe/Paris:20230927T080000
DTEND;TZID=Europe/Paris:20231008T170000
DTSTAMP:20260422T120011
CREATED:20230629T124546Z
LAST-MODIFIED:20230810T075711Z
UID:6495-1695801600-1696784400@www.petale07.org
SUMMARY:Fête du sol vivant
DESCRIPTION:Jusqu’à présent appelés Café Compost\, ces événements se concentraient sur la pratique du compostage et son utilisation au jardin. Répondant au besoin grandissant de réduction des apports en déchèterie des déchets verts\, le RCC lance un concept de plus grande envergure\, la « Fête du Sol Vivant »\, pour promouvoir les bonnes pratiques de gestion au jardin de ces ressources. \nSi vous êtes une collectivité\, une association\, un professionnel de l’agroécologie\, ou un jardinier passionné\, nous vous invitons à organiser un événement entre le 27 septembre et le 8 octobre ! \nVous aimez la quinzaine « Tous au Compost » ? Voici son pendant automnal\, la Fête du sol vivant »\, pour diffuser largement les pratiques de prévention et de gestion des déchets verts. Face à à l’appauvrissement des sols\, à la canicule\, au manque d’eau\, chaque citoyen.ne peut faire sa part en apprenant les techniques de paillage\, broyage\, mulshing\, compostage\, fabrication de haie sèche\, etc. \nProgramme et inscription ici \nEt consulter les outils pour vos animations fête du sol vivant ici \nContact : Cécile par téléphone au 06 86 77 51 74 ou par e-mail à bourgs.transition07@gmail.com
URL:https://www.petale07.org/event/fete-du-sol-vivant/
CATEGORIES:Evenementiel
ATTACH;FMTTYPE=image/jpeg:https://www.petale07.org/wp-content/uploads/2023/06/fete-du-sol-vivant.jpg
END:VEVENT
BEGIN:VEVENT
DTSTART;TZID=Europe/Paris:20231018T093000
DTEND;TZID=Europe/Paris:20231018T163000
DTSTAMP:20260422T120011
CREATED:20230828T142345Z
LAST-MODIFIED:20240110T130427Z
UID:7146-1697621400-1697646600@www.petale07.org
SUMMARY:RDV des 4 saisons du groupe de travail éduquer dehors
DESCRIPTION:Ce 18 octobre c’est une vingtaine d’enseignants et animateurs nature se sont rencontrés à Jaujac pour une visite et échange de pratiques avec la classe de ? présentation des 1er résultats nationaux et gt recherche action PNR Pétale Dans le cadre d’un financement Leader et en lien avec le projet national du FRENE « Grandir avec la nature »\, une douzaine de professionnels s’impliquent dans une recherche- actions ardéchoise. Avec Marie-Laure Girault\, ils ont analysé l’évolution de leur posture éducative et défini leur plan d’actions jusqu’à fin 2023. Compte rendu bientôt disponible \n« C’est la rentrée : et si on faisait Ecole Dehors ? » \nAu programme : \nRDV à l’école publique Jaujac situé à : 250 rue Jean Moulin 07380 Jaujac \n9h00-9h30 : Accueil à l’école à l’école publique de Jaujac et déplacement jusqu’au coin nature pour faire classe dehors \n9h30-11h30 : Visite & échange de pratiques sur le terrain : Départ dans la forêt pour faire « classe dehors »\, mise en situation et témoignages par Nathalie\, enseignante\, et Fred\, animateur nature à Chemins de traverse. Présentation par Eléonore\, de la démarche « École dehors » du PNR des Monts d’Ardèche \n11h30 – 12h30 : Expérimenter la collecte et l’analyse de données\, un temps animé par Marie-Laure Girault\, en charge de la recherche-action « Éduquer dehors » \n12h30-13h30 : Pique-nique tiré du sac à la Maison du Parc (intérieur ou extérieur selon la météo) \n13h30-16h00 : Après-midi sur la Recherche-action « éduquer dehors » : la posture éducative ! – Maison du Parc \nAteliers en ½ groupes \n\nPour les accompagnateurs engagés dans la recherche-action « Éduquer dehors »: un atelier réflexif animé par Marie-Laure Girault sur « l’Analyse collective et catégorisation de données en sciences humaines »\, à partir des journaux de bord et orientation éditoriale pour le document de restitution des travaux.\nPour les autres participants à la journée (enseignants\, animateurs\, parents\, éducateurs\, élus …) : un atelier animé par Eléonore du PNR et Marie du collectif Pétale 07\, avec la présentation des 1ers résultats nationaux « grandir avec la nature »\, un tems d’échange et de témoignages à partir de la question de recherche ardéchoise\, un temps d’appropriation et d’expérimentation des outils de collectes de données et d’analyse de la pratique.\n\n16h-16h30 Mise en commun des 2 groupes et perspectives \nA noter : quelle que soit la météo la rencontre est maintenue. Cela permet d’expérimenter les trucs et astuces pour emmener un groupe dehors toute l’année. Néanmoins nous vous demandons de prévoir un équipement personnel adapté. \nCette journée d’échange de pratiques et de travail sur la recherche action « éduquer dehors » avec Marie Laure Girault du FRENE est accessible à tous les acteurs éducatifs. Les enseignants qui souhaitent participer à ces RDV sont sur un temps personnel et choisi\, qui leur permet de faire connaissance avec les pratiques de leurs collègues\, de créer des relations avec les animateurs nature et d’accéder à des ressources pédagogiques utiles à leurs pratiques de « la classe dehors ». \nPensez à consulter les ressources que nous avons collectées sur le sujet ! \nFRENE \nTous Dehors Belgique  \nTous Dehors France  \nL’enfant dans la nature (Maina Fauchier Delavigne et Mathieu Chéreau) \nMa petite forêt (Laura Nicolas) \nParc naturel régional des monts d’Ardèche « Ecole dehors » \nParc naturel régional des monts d’Ardèche « Raconte-moi ton école dehors » \nLes fiches outils utilisées \nGradient de nature \nJournal de bord \nGradient de nature diagramme Kiviat \n  \nEn savoir +\n\nS’inscrire\nOrganisons-nous pour covoiturer ! \nA votre écoute pour plus de précisions : Marie SIMON 06 79 40 18 05 contact@petale07.org
URL:https://www.petale07.org/event/rdv-des-4-saisons-du-groupe-de-travail-eduquer-dehors/
LOCATION:Jaujac\, La Bastide 670 route de Largentière\, Jaujac\, 07380\, France
CATEGORIES:Evenementiel,Groupe Eduquer dehors
ATTACH;FMTTYPE=image/png:https://www.petale07.org/wp-content/uploads/2023/08/rdv-4-saisons-Berrias-03-05-20233.png
END:VEVENT
BEGIN:VEVENT
DTSTART;TZID=Europe/Paris:20231019T080000
DTEND;TZID=Europe/Paris:20231019T170000
DTSTAMP:20260422T120011
CREATED:20231011T134934Z
LAST-MODIFIED:20251028T140715Z
UID:7386-1697702400-1697734800@www.petale07.org
SUMMARY:Plénière des tiers lieux nourriciers ardéchois
DESCRIPTION:
URL:https://www.petale07.org/event/pleniere-des-tiers-lieux-nourriciers-ardechois/
CATEGORIES:Evenementiel,Vie du collectif
ATTACH;FMTTYPE=image/png:https://www.petale07.org/wp-content/uploads/2023/10/Bleu-marron-creme-Classique-Vernissage-exposition-Invitation-1.png
END:VEVENT
BEGIN:VEVENT
DTSTART;TZID=Europe/Paris:20231020T080000
DTEND;TZID=Europe/Paris:20231020T170000
DTSTAMP:20260422T120011
CREATED:20230803T151915Z
LAST-MODIFIED:20230803T151915Z
UID:6905-1697788800-1697821200@www.petale07.org
SUMMARY:Journée départementale des paysages 2023
DESCRIPTION:Le vendredi 20 octobre au domaine du Pradel à Mirabel\, les paysages ardéchois au cœur de la transition environnementale : quels outils mettre en œuvre pour construire une vision commune du territoire ? \nLe CAUE de l’Ardèche vous convie à la journée départementale des paysages 2023. Cette journée sera l’occasion de partager\, questionner et découvrir les dynamiques territoriales en lien avec le paysage\, l’aménagement et la transition environnementale. Le CAUE est d’ailleurs partenaire de Pétale 07 sur le projet de végétalisation des lieux éducatifs pour en savoir plus et découvrir les ressources sur le sujet c’est ici ! \nDu paysage comme perception ou réalité physique\, au paysage comme méthode et stratégie de projet pour les territoires\, cette journée interrogera collectivement notre rapport à cette notion reconnue comme bien-commun\, où actions individuelles et collectives ont un rôle à jouer. \nLa journée s’articulera autour d’ateliers et de tables-rondes:\n9h00/12h00\nPerception par les ardéchois·es de leurs paysages du quotidien dans un contexte d’évolution climatique: regards croisés entre habitant·es\, chercheuses et chercheurs\, élu·es\, technicien·nes et professionnel·les de l’aménagement.\nEchanges autour des questions d’habiter demain en Ardèche\, des évolutions engagées en agriculture et de la place des énergies renouvelables dans nos territoires.\n13h30/16h30\nLe paysage\, vecteur de la transition dans les outils de planification locaux et territoriaux.\nEchanges\, questionnements\, approfondissement des différents sujets soulevés au cours de la journée.\nà partir de 16h30\nVernissage de l’exposition « Paysages mobilisés »: cheminements sensoriels\, contributions d’habitant·es\, récits de vie\, c’est tout un travail de collecte et d’analyse qui se dévoilera comme manière de questionner les multiples liens entre le paysage et nos modes de vie. \nLe programme définitif et le formulaire d’inscription seront disponibles fin septembre.\nCet événement\, proposé par le CAUE de l’Ardèche dans le cadre du projet « Paysages mobilisés »\, est soutenu par la DREAL et le Leader Ardèche3. Il a été co-construit en partenariat avec la DDT de l’Ardèche\, le Cermosem\, les SCoT\, le PNR des Monts d’Ardèche et le Département de l’Ardèche.
URL:https://www.petale07.org/event/journee-departementale-des-paysages-2023/
LOCATION:Le Pradel\, Domaine Olivier de Serres\, Mirabel\, 07170\, France
CATEGORIES:Evenementiel
ATTACH;FMTTYPE=image/jpeg:https://www.petale07.org/wp-content/uploads/2023/08/ICONO-WEB-JP-2023-BIS.jpg
END:VEVENT
END:VCALENDAR