BEGIN:VCALENDAR
VERSION:2.0
PRODID:-//Pétale 07 - ECPv6.15.20//NONSGML v1.0//EN
CALSCALE:GREGORIAN
METHOD:PUBLISH
X-ORIGINAL-URL:https://www.petale07.org
X-WR-CALDESC:Évènements pour Pétale 07
REFRESH-INTERVAL;VALUE=DURATION:PT1H
X-Robots-Tag:noindex
X-PUBLISHED-TTL:PT1H
BEGIN:VTIMEZONE
TZID:Europe/Paris
BEGIN:DAYLIGHT
TZOFFSETFROM:+0100
TZOFFSETTO:+0200
TZNAME:CEST
DTSTART:20220327T010000
END:DAYLIGHT
BEGIN:STANDARD
TZOFFSETFROM:+0200
TZOFFSETTO:+0100
TZNAME:CET
DTSTART:20221030T010000
END:STANDARD
BEGIN:DAYLIGHT
TZOFFSETFROM:+0100
TZOFFSETTO:+0200
TZNAME:CEST
DTSTART:20230326T010000
END:DAYLIGHT
BEGIN:STANDARD
TZOFFSETFROM:+0200
TZOFFSETTO:+0100
TZNAME:CET
DTSTART:20231029T010000
END:STANDARD
BEGIN:DAYLIGHT
TZOFFSETFROM:+0100
TZOFFSETTO:+0200
TZNAME:CEST
DTSTART:20240331T010000
END:DAYLIGHT
BEGIN:STANDARD
TZOFFSETFROM:+0200
TZOFFSETTO:+0100
TZNAME:CET
DTSTART:20241027T010000
END:STANDARD
END:VTIMEZONE
BEGIN:VEVENT
DTSTART;TZID=Europe/Paris:20230329T090000
DTEND;TZID=Europe/Paris:20230329T163000
DTSTAMP:20260422T210927
CREATED:20230202T142149Z
LAST-MODIFIED:20230620T083133Z
UID:5841-1680080400-1680107400@www.petale07.org
SUMMARY:[RESSOURCES] Place à la végétalisation ! Transformons nos espaces éducatifs
DESCRIPTION:Les ressources de la journée sont disponibles !\n\nLe 29 mars 2023 s’est tenu une journée d’échange avec pour objectifs de découvrir et de partager les initiatives ardéchoises de végétalisation des lieux éducatifs\, alors que vous ayez ou non pu participer à cette journée et que : \nVous êtes élu ou agent d’une collectivité et que vous vous interrogez sur les enjeux de la végétalisation des lieux éducatifs et espaces publics ou si  vous êtes enseignants\, animateurs\, éducateurs\, et que vous désirez en savoir plus sur ce qu’il est possible de faire\, comment\, et avec qui. Retrouvez toutes les informations ici pour mener à bien votre projet de végétalisation des lieux éducatifs ! \n► Voir l’article paru dans Le Dauphiné\n► Retour en image sur cette journée \n  \n\n        \n            \n                                \n                                        \n                        \n                        SlideCrèche multi-accueil « Quai de l’éveil » - La Voulte-sur-RhôneVisite 2Slide École maternelle Le Moulinon – St-Sauveur-de-MontagutVisite 5SlideCrèche multi-accueil « Quai de l’éveil » - La Voulte-sur-RhôneVisite 2SlidePrise de parole sur la végétalisation29/03/2023SlideAménagement pédagogique réalisé par VIEPlénière 29/03/2023SlideAménagement pédagogique réalisé par VIEPlénière 29/03/2023SlideÉcole publique maternelle et élémentaire - CornasVisite 4SlideÉcole publique maternelle et élémentaire - CornasVisite 4SlideÉcole publique maternelle et élémentaire - CornasVisite 4SlideCollège Les trois Vallées - La Voulte-sur-RhôneVisite 1SlideCollège Les trois Vallées - La Voulte-sur-RhôneVisite 1SlideCollège Les trois Vallées - La Voulte-sur-RhôneVisite 1SlideLe P’tit-jardin\, jardins partagés du Centre socio-culturel – Le PouzinVisite 3SlideLe P’tit-jardin\, jardins partagés du Centre socio-culturel – Le PouzinVisite 3SlideLe P’tit-jardin\, jardins partagés du Centre socio-culturel – Le PouzinVisite 3\n                \n                            \n        \n        \n\n\n\n  \n\nSupports et documentation de la journée\n\n►► Les visites de terrains :\n► Supports de présentation des 5 projets ( Quoi ?\, Quand ?\, Ou ?\, Qui ?\, Comment ?\, Pourquoi ?) ► A consulter ici    \n\n►Synthèse de restitution des 5 visites ► A consulter ici \n\n►Le Power Point de l’ACEPP visite 2 crèche multi accueil « Quai de l’éveil » ► A consulter ici\n \n\n\n     \n►► Les enjeux de la végétalisation : présentation de Franck David\n\n\n\n\n\n\n\n\n\n\n\n\n        \n            \n                                \n                                        \n                        \n                        Les enjeux de la  végétalisation 29 mars\, 2023 par  Franck DAVID \nPPT: Les enjeux de la végétalisation \nVégétalisation\, Lieux éducatifs\, Saluterre \nSlide 329 mars\, 2023 par Franck David \nAudio de la présentation: Les enjeux de la végétalisation \nVégétalisation\, audio \nSlide 229 mars\, 2023 par flore vigneron \n Illustration conférence "Les enjeux de la végétalisation \nVégétalisation\, illustration\, flore vigneron \n                    \n                \n                            \n        \n         \n\n\n►►Table ronde : Ressources et partenaires mobilisables \nCoordonnées des partenaires organisateurs de la journée :\n\n\n\n  \n\nARS Délégation de l’Ardèche – Pôle Santé Publique – Service Santé-Environnement :\nFabrice Gouédo : Fabrice.GOUEDO@ars.sante.fr – 04 26 20 92 13\n  \n\n\n\nDirection des services départementaux de l’Éducation nationale (DSDEN) – Service départemental Jeunesse\, Engagement\, Sports (SDJES) :\nPierrick Ponsonnet : pierrick.ponsonnet@ac-grenoble.fr – 04 81 54 01 14\n  \n\n\n\nDépartement de l’Ardèche – Direction Immobilier Achats et moyens :\n\nStéphanie Janoir : sjanoir@ardeche.fr (à compter du 03/07/23 : sjanoir@sdea-ardeche.fr)\n  \n\n\n\nConseil d’architecture\, d’urbanisme et de l’environnement de l’Ardèche (CAUE 07) :\n\nJules Abel : jabel@caue07.fr – 06 45 77 40 05\n  \n\n\nAtelier Canopé 07 – Direction territoriale Auvergne Rhône Alpes – Coordination Innovation :\n\nCorinne Larcher : corinne.larcher@reseau-canope.fr – 06 38 13 93 39\n  \n\n \nParc naturel régional (PNR) des Monts d’Ardèche : \n\nCaroline Muller : cmuller@parc-monts-ardeche.fr – 04 75 36 38 60 / 06 23 48 13 39\nArnaud Berat : aberat@parc-monts-ardeche.fr – 04 75 36 38 60 / 06 19 21 66 62\n\n \n \nAssociation V.I.E – Vivre les initiatives ensemble : \n\nNicolas Husson : assovie07@gmail.com – 06 58 08 41 12\n  \n \nSyndicat de gestion des Gorges de l’Ardèche (SGGA) : \n\nBatiste Leriche : b.leriche@gorgesdelardeche.fr – 06 13 45 34 17 / 04 75 98 77 31\n  \n \nCollectif Pétale 07 :\n\nMarie Simon : marie.simonchaussy@orange.fr – 06 79 40 18 05 / 04 75 38 92 51\nJeanne Baury : contact@petale07.org – 06 04 74 62 95\n  \n  \n  \n\n\n\n\n\n\n\n\n\n\n\n\n\n\n\n        \n            \n                                \n                                        \n                        \n                        Slide 129 mars 2023 par Flore Vigneron \nIllustration: Table ronde \nVégétalisation\, Table ronde\, Flore Vigneron \nSlide 329 mars 2023 by Ministère de la Transition écologique et de la Cohésion des territoires  \nAxe 2: Renaturation des villes et des villages \nVégétalisation\, Financement  \nSlide 229 mars 2023   \nFinancement: Accompagner la végétalisation des établissements scolaires  \nVégétalisation\, financements\, banque de territoire \n                    \n                \n                            \n        \n         \n\n\n\n\n►► Illustrations de la facilitatrice graphique Flore Vigneron \n        \n            \n                                \n                                        \n                        \n                        SlideVisite le petit jardin 3Par Flore VigneronSlideVisite 3 le petit jardin Par Flore VigneronSlideVisite 2 crèche d'éveilPar Flore vigneronSlideVisite 2 crèche quai de l'éveilPar flore vigneronSlideTable ronde Par Flore VigneronSlideConférence les enjeux de la végétalisation Par Flore vigneron\n                \n                            \n        \n        \n\n  \n\n►► Pour aller plus loin découvrez notre sélection de ressources et documentation  \n► Ressources documentaires\n  \n►► Paroles de participants : \n \n► Pour vous inspirer : sélection de photos par Sophie Augmard-Marcon  \n\n		\n	\n	\n	\n	\n		Végétalisation des espaces scolaires4	\n	\n	\n\n	\nPour rappel le programme de la journée du 29 mars  \n\n► La matinée a permis des visites de terrain au choix pour s’inspirer et découvrir des initiatives ardéchoises de végétalisation \n5 visites de projets au choix (+ d’infos dans le programme complet) : \n\nVisite 1 : Collège Les trois Vallées – La Voulte-sur-Rhône\n\nVisite 2 : Crèche multi-accueil « Quai de l’éveil » – La Voulte-sur-Rhône\nVisite 3 : Le P’tit-jardin\, jardins partagés du Centre socio-culturel – Le Pouzin\nVisite 4 : École publique maternelle et élémentaire – Cornas\nVisite 5 : École maternelle Le Moulinon – St-Sauveur-de-Montagut\n\n► L’après-midi conférence et table ronde ont permis d’identifier les enjeux de la végétalisation et rencontrer les acteurs qui accompagnent ces démarches \n📍 Salle des fêtes de La Voulte-sur-Rhône\, 7 Rue René Cassin \n\nConférence : Pourquoi végétaliser ? Les enjeux de la végétalisation\nTable ronde : Qui peut m’aider ? Focus sur les ressources et partenaires mobilisables sur le département\n\n► Voir le programme complet\n  \n \n\n\nUn évènement à l’initiative de la DSDEN\, organisé par le Collectif Pétale 07 en partenariat avec le SDJES\, l’ARS\, le Département de l’Ardèche\, Réseau Canopé\, le CAUE\, le Syndicat de gestion des Gorges de l’Ardèche\, le PNR des Monts d’Ardèche\, avec le soutien de la DSDEN et du programme Leader Ardèche3. \n► Communiqué de presse
URL:https://www.petale07.org/event/place-a-la-vegetalisation-transformons-nos-espaces-educatifs/
LOCATION:La Voulte sur Rhône\, La Voulte sur Rhône\, France
CATEGORIES:Evenementiel,Groupe Eduquer dehors,Groupe ESE,Groupe Sortir
ATTACH;FMTTYPE=image/png:https://www.petale07.org/wp-content/uploads/2023/02/ARTICLE-SITE-944X347_VEGETALISATION_ressources.png
END:VEVENT
END:VCALENDAR