BEGIN:VCALENDAR
VERSION:2.0
PRODID:-//Pétale 07 - ECPv6.15.20//NONSGML v1.0//EN
CALSCALE:GREGORIAN
METHOD:PUBLISH
X-WR-CALNAME:Pétale 07
X-ORIGINAL-URL:https://www.petale07.org
X-WR-CALDESC:Évènements pour Pétale 07
REFRESH-INTERVAL;VALUE=DURATION:PT1H
X-Robots-Tag:noindex
X-PUBLISHED-TTL:PT1H
BEGIN:VTIMEZONE
TZID:Europe/Paris
BEGIN:DAYLIGHT
TZOFFSETFROM:+0100
TZOFFSETTO:+0200
TZNAME:CEST
DTSTART:20210328T010000
END:DAYLIGHT
BEGIN:STANDARD
TZOFFSETFROM:+0200
TZOFFSETTO:+0100
TZNAME:CET
DTSTART:20211031T010000
END:STANDARD
BEGIN:DAYLIGHT
TZOFFSETFROM:+0100
TZOFFSETTO:+0200
TZNAME:CEST
DTSTART:20220327T010000
END:DAYLIGHT
BEGIN:STANDARD
TZOFFSETFROM:+0200
TZOFFSETTO:+0100
TZNAME:CET
DTSTART:20221030T010000
END:STANDARD
BEGIN:DAYLIGHT
TZOFFSETFROM:+0100
TZOFFSETTO:+0200
TZNAME:CEST
DTSTART:20230326T010000
END:DAYLIGHT
BEGIN:STANDARD
TZOFFSETFROM:+0200
TZOFFSETTO:+0100
TZNAME:CET
DTSTART:20231029T010000
END:STANDARD
END:VTIMEZONE
BEGIN:VEVENT
DTSTART;TZID=Europe/Paris:20220617T140000
DTEND;TZID=Europe/Paris:20220617T200000
DTSTAMP:20260423T093610
CREATED:20220415T150402Z
LAST-MODIFIED:20220829T132122Z
UID:3471-1655474400-1655496000@www.petale07.org
SUMMARY:17 JUIN : ASSEMBLÉE GÉNÉRALE du Collectif Pétale 07
DESCRIPTION:  \nLe Collectif Pétale 07 organise son assemblée générale le 17 juin de 14h à 18h30 à l’Atelier Canopé 07 à Privas (Pôle Bésignoles)\, avec au programme de l’après-midi : \n\n14h-16h | Temps fort en extérieur : Éducation-Santé- Environnement : s’approprier des outils et ressources (voir l’article du temps fort ESE)\n\n16h-17h | Goûter convivial pour rencontrer les acteurs et découvrir les groupes de travail du Collectif\n17h-18h30 | Assemblée générale ordinaire\n18h30 | Apéritif partagé\n\nJe m’inscris en ligne\n💡 Vous avez des propositions pour cette journée ? Vous souhaitez témoigner d’une initiative collective ? Vous souhaitez proposer votre appui pour l’animation et la logistique de la journée ? Contactez-nous ! >> contact@petale07.org << \n💡 C’est le moment d’adhérer ou de renouveler votre adhésion à Pétale 07 pour pouvoir voter en AG : adhérent individuel ou structure\, toutes les infos sur l’adhésion sont à retrouver ICI \n💡 Le Collectif Pétale 07 propose à celles et ceux qui le souhaitent de rejoindre la Collégiale pour s’impliquer comme administrateur·rice du Collectif :  \nEn savoir + sur la gouvernance et la Collégiale de Pétale 07\n  \n💡 Organisons-nous pour covoiturer ! Vous pouvez proposer une voiture ou rechercher une place sur le lien suivant : https://www.togetzer.com/covoiturage-evenement/ouiuyg \n 
URL:https://www.petale07.org/event/17-juin-assemblee-generale-du-collectif-petale-07-retenez-la-date/
LOCATION:Atelier Canopé 07\, Pôle Bésignoles - Route des Mines\, Privas\, 07000\, France
CATEGORIES:Evenementiel
ATTACH;FMTTYPE=image/jpeg:https://www.petale07.org/wp-content/uploads/2022/04/Invitation-AG-Petale-07_170622.jpg
END:VEVENT
BEGIN:VEVENT
DTSTART;VALUE=DATE:20220629
DTEND;VALUE=DATE:20220702
DTSTAMP:20260423T093610
CREATED:20220509T142511Z
LAST-MODIFIED:20220829T132131Z
UID:3691-1656460800-1656719999@www.petale07.org
SUMMARY:Plateau TV "Solidarité internationale" co-réalisé par les jeunes
DESCRIPTION:Depuis le mois d’avril l’association ReZonance anime des ateliers d’accompagnement à la création d’émissions audio-visuelles\, gratuits et à destination des jeunes. L’objectif final est la co-réalisation d’une émission TV en direct portant sur la solidarité internationale avec le prisme du changement climatique et des flux migratoires. \nLe dernier atelier de répétition se déroulera le 29 et 30 juin à Grenoble\, et le plateau TV aura lieu le 1er juillet pendant le forum international du Bien Vivre. \nEn savoir +
URL:https://www.petale07.org/event/plateau-tv-solidarite-internationale-co-realise-par-les-jeunes/
LOCATION:Université Grenoble-Alpes\, 38400 SAINT MARTIN-D’HERES\, Saint Martin d'Hères\, 38400\, France
CATEGORIES:Animation / atelier,Evenementiel
ATTACH;FMTTYPE=image/jpeg:https://www.petale07.org/wp-content/uploads/2022/04/Communique-de-presse-p3.jpg
END:VEVENT
BEGIN:VEVENT
DTSTART;TZID=Europe/Paris:20220629T183000
DTEND;TZID=Europe/Paris:20220629T223000
DTSTAMP:20260423T093610
CREATED:20220609T135456Z
LAST-MODIFIED:20220829T132137Z
UID:4367-1656527400-1656541800@www.petale07.org
SUMMARY:Projection-débat & buffet gourmand le 29/06
DESCRIPTION:Terre & Humanisme a le plaisir de vous convier à sa 2ème soirée thématique de l’année\, le mercredi 29 juin prochain au siège de l’association à Lablachère (07230) à partir de 18h30.\nAu programme : projection du documentaire « Êtres en transition – le vivant nous questionne » de François Stuck\, suivie d’un temps d’échange en présence du réalisateur\, autour d’un buffet gourmand\, préparé par l’un de nos cuisiniers. \n \nTarif unique de la soirée : 15€ / personne\n(réservé aux adhérents\, si vous ne l’êtes pas\, vous pourrez adhérer sur place ponctuellement pour 2€).\n\nSur réservation avant le 28/06 via la plateforme Weezevent \nRéservez votre place \nou par mail : communication@terre-humanisme.org ou par téléphone au 04 75 36 64 01 \nAu plaisir de vous y voir nombreux et motivés !
URL:https://www.petale07.org/event/projection-debat-buffet-gourmand-le-29-06/
LOCATION:Mas de Beaulieu\, 07230 Lablachère\, 471 chemin du Mas de Beaulieu\, Lablachère\, 07230\, France
CATEGORIES:Evenementiel
ATTACH;FMTTYPE=image/jpeg:https://www.petale07.org/wp-content/uploads/2022/06/Affiche-Etres-A3-bandeau-1-scaled.jpg
ORGANIZER;CN="Terre &amp%3B Humanisme":MAILTO:infos@terre-humanisme.org
END:VEVENT
END:VCALENDAR