BEGIN:VCALENDAR
VERSION:2.0
PRODID:-//Pétale 07 - ECPv6.15.20//NONSGML v1.0//EN
CALSCALE:GREGORIAN
METHOD:PUBLISH
X-ORIGINAL-URL:https://www.petale07.org
X-WR-CALDESC:Évènements pour Pétale 07
REFRESH-INTERVAL;VALUE=DURATION:PT1H
X-Robots-Tag:noindex
X-PUBLISHED-TTL:PT1H
BEGIN:VTIMEZONE
TZID:Europe/Paris
BEGIN:DAYLIGHT
TZOFFSETFROM:+0100
TZOFFSETTO:+0200
TZNAME:CEST
DTSTART:20210328T010000
END:DAYLIGHT
BEGIN:STANDARD
TZOFFSETFROM:+0200
TZOFFSETTO:+0100
TZNAME:CET
DTSTART:20211031T010000
END:STANDARD
BEGIN:DAYLIGHT
TZOFFSETFROM:+0100
TZOFFSETTO:+0200
TZNAME:CEST
DTSTART:20220327T010000
END:DAYLIGHT
BEGIN:STANDARD
TZOFFSETFROM:+0200
TZOFFSETTO:+0100
TZNAME:CET
DTSTART:20221030T010000
END:STANDARD
BEGIN:DAYLIGHT
TZOFFSETFROM:+0100
TZOFFSETTO:+0200
TZNAME:CEST
DTSTART:20230326T010000
END:DAYLIGHT
BEGIN:STANDARD
TZOFFSETFROM:+0200
TZOFFSETTO:+0100
TZNAME:CET
DTSTART:20231029T010000
END:STANDARD
END:VTIMEZONE
BEGIN:VEVENT
DTSTART;TZID=Europe/Paris:20220409T100000
DTEND;TZID=Europe/Paris:20220409T120000
DTSTAMP:20260423T122844
CREATED:20220325T154147Z
LAST-MODIFIED:20220829T131937Z
UID:3257-1649498400-1649505600@www.petale07.org
SUMMARY:Club Nature Famille du samedi 9 avril
DESCRIPTION:Club Nature Famille samedi 9 avril\, le printemps est là !\nRetrouvez nous de 10h-12h à St Sernin ! \nAu programme : Construction de cabanes au village des lutins !\nÀ Prix libre et sur inscription sur notre site :https://mesangeetlibellule.com/club-nature-famille/ ou au 06 77 53 62 89 – 04 26 62 09 32 ou par mail mesangeetlibellule@gmail.com en indiquant votre nom\, numéro de téléphone et nombre de participant.e.s \nEt le prochain club famille aura lieu le samedi  14 mai.\nà bientôt dans les bois !
URL:https://www.petale07.org/event/club-nature-famille-du-samedi-2-avril/
CATEGORIES:Animation / atelier,Evenementiel
ATTACH;FMTTYPE=image/jpeg:https://www.petale07.org/wp-content/uploads/2022/03/cf.jpg
END:VEVENT
BEGIN:VEVENT
DTSTART;VALUE=DATE:20220423
DTEND;VALUE=DATE:20220425
DTSTAMP:20260423T122844
CREATED:20210127T133811Z
LAST-MODIFIED:20220829T132005Z
UID:997-1650672000-1650844799@www.petale07.org
SUMMARY:L'Ardèche De Ferme en Ferme 2022
DESCRIPTION:Créée en 2000\, L’Ardèche de ferme en ferme® est une opération de portes ouvertes dans les fermes  du département. A travers cette opération\, la Fédération des CIVAM de l’Ardèche a pour objectif de faire découvrir au public les métiers et produits d’agriculteurs engagés dans un développement durable de l’agriculture. \nRetrouvez toutes les informations sur l’évènement « De Ferme en Ferme » sur le site internet: www.defermeenferme.com\nLe dépliant de l’évènement 2022 est disponible en téléchargement en cliquant ici. \nAmi visiteur\, conservez la plaquette De ferme en ferme après le week-end ! La plupart des fermes sont ouvertes toute l’année et proposent de la vente ou/et des visites. Pensez à téléphoner au préalable.
URL:https://www.petale07.org/event/lardeche-de-ferme-en-ferme-2021/
CATEGORIES:Evenementiel,Sortie / balade
ATTACH;FMTTYPE=image/png:https://www.petale07.org/wp-content/uploads/2021/01/affiche-A4-Ardeche-2022.png
ORGANIZER;CN="FD CIVAM Ard%C3%A8che":MAILTO:contact@civamardeche.org
END:VEVENT
END:VCALENDAR